BEGIN:VCALENDAR
VERSION:2.0
PRODID:-//Autisme Mauricie - ECPv6.11.0//NONSGML v1.0//EN
CALSCALE:GREGORIAN
METHOD:PUBLISH
X-ORIGINAL-URL:https://www.autismemauricie.com
X-WR-CALDESC:Évènements pour Autisme Mauricie
REFRESH-INTERVAL;VALUE=DURATION:PT1H
X-Robots-Tag:noindex
X-PUBLISHED-TTL:PT1H
BEGIN:VTIMEZONE
TZID:Europe/Paris
BEGIN:DAYLIGHT
TZOFFSETFROM:+0100
TZOFFSETTO:+0200
TZNAME:CEST
DTSTART:20260329T010000
END:DAYLIGHT
BEGIN:STANDARD
TZOFFSETFROM:+0200
TZOFFSETTO:+0100
TZNAME:CET
DTSTART:20261025T010000
END:STANDARD
END:VTIMEZONE
BEGIN:VEVENT
DTSTART;TZID=Europe/Paris:20260424T083000
DTEND;TZID=Europe/Paris:20260424T163000
DTSTAMP:20260421T053756
CREATED:20251015T172703Z
LAST-MODIFIED:20251015T172712Z
UID:10005028-1777019400-1777048200@www.autismemauricie.com
SUMMARY:Les vendredis en Folie
DESCRIPTION:Dès l’ouverture jusqu’à 16 h 30\n\n\n\nArrive avant 11 h 15 pour commander au resto et dîner avec nous\n\n\n\n\nLes vendredis après-midi sont consacrés aux divertissements pour tous nos membres adolescents et adultes (jeux de société\, jeux vidéo\, films populaires\, dessiner ou simplement discuter…). Mais\, prenez note qu’il ne s’agit pas d’un service de garde. Votre enfant doit être assez autonome. L’activité a lieu au local d’Autisme Mauricie.
URL:https://www.autismemauricie.com/event/les-vendredis-en-folie/2026-04-24/
CATEGORIES:Les vendredis en Folie
ATTACH;FMTTYPE=image/png:https://www.autismemauricie.com/wp-content/uploads/2023/09/Screenshot-2023-09-18-184222.png
END:VEVENT
BEGIN:VEVENT
DTSTART;TZID=Europe/Paris:20260501T083000
DTEND;TZID=Europe/Paris:20260501T163000
DTSTAMP:20260421T053756
CREATED:20251015T172703Z
LAST-MODIFIED:20251015T172712Z
UID:10005029-1777624200-1777653000@www.autismemauricie.com
SUMMARY:Les vendredis en Folie
DESCRIPTION:Dès l’ouverture jusqu’à 16 h 30\n\n\n\nArrive avant 11 h 15 pour commander au resto et dîner avec nous\n\n\n\n\nLes vendredis après-midi sont consacrés aux divertissements pour tous nos membres adolescents et adultes (jeux de société\, jeux vidéo\, films populaires\, dessiner ou simplement discuter…). Mais\, prenez note qu’il ne s’agit pas d’un service de garde. Votre enfant doit être assez autonome. L’activité a lieu au local d’Autisme Mauricie.
URL:https://www.autismemauricie.com/event/les-vendredis-en-folie/2026-05-01/
CATEGORIES:Les vendredis en Folie
ATTACH;FMTTYPE=image/png:https://www.autismemauricie.com/wp-content/uploads/2023/09/Screenshot-2023-09-18-184222.png
END:VEVENT
BEGIN:VEVENT
DTSTART;TZID=Europe/Paris:20260508T083000
DTEND;TZID=Europe/Paris:20260508T163000
DTSTAMP:20260421T053756
CREATED:20251015T172703Z
LAST-MODIFIED:20251015T172712Z
UID:10005030-1778229000-1778257800@www.autismemauricie.com
SUMMARY:Les vendredis en Folie
DESCRIPTION:Dès l’ouverture jusqu’à 16 h 30\n\n\n\nArrive avant 11 h 15 pour commander au resto et dîner avec nous\n\n\n\n\nLes vendredis après-midi sont consacrés aux divertissements pour tous nos membres adolescents et adultes (jeux de société\, jeux vidéo\, films populaires\, dessiner ou simplement discuter…). Mais\, prenez note qu’il ne s’agit pas d’un service de garde. Votre enfant doit être assez autonome. L’activité a lieu au local d’Autisme Mauricie.
URL:https://www.autismemauricie.com/event/les-vendredis-en-folie/2026-05-08/
CATEGORIES:Les vendredis en Folie
ATTACH;FMTTYPE=image/png:https://www.autismemauricie.com/wp-content/uploads/2023/09/Screenshot-2023-09-18-184222.png
END:VEVENT
BEGIN:VEVENT
DTSTART;TZID=Europe/Paris:20260515T083000
DTEND;TZID=Europe/Paris:20260515T163000
DTSTAMP:20260421T053756
CREATED:20251015T172703Z
LAST-MODIFIED:20251015T172712Z
UID:10005031-1778833800-1778862600@www.autismemauricie.com
SUMMARY:Les vendredis en Folie
DESCRIPTION:Dès l’ouverture jusqu’à 16 h 30\n\n\n\nArrive avant 11 h 15 pour commander au resto et dîner avec nous\n\n\n\n\nLes vendredis après-midi sont consacrés aux divertissements pour tous nos membres adolescents et adultes (jeux de société\, jeux vidéo\, films populaires\, dessiner ou simplement discuter…). Mais\, prenez note qu’il ne s’agit pas d’un service de garde. Votre enfant doit être assez autonome. L’activité a lieu au local d’Autisme Mauricie.
URL:https://www.autismemauricie.com/event/les-vendredis-en-folie/2026-05-15/
CATEGORIES:Les vendredis en Folie
ATTACH;FMTTYPE=image/png:https://www.autismemauricie.com/wp-content/uploads/2023/09/Screenshot-2023-09-18-184222.png
END:VEVENT
BEGIN:VEVENT
DTSTART;TZID=Europe/Paris:20260522T083000
DTEND;TZID=Europe/Paris:20260522T163000
DTSTAMP:20260421T053756
CREATED:20251015T172703Z
LAST-MODIFIED:20251015T172712Z
UID:10005032-1779438600-1779467400@www.autismemauricie.com
SUMMARY:Les vendredis en Folie
DESCRIPTION:Dès l’ouverture jusqu’à 16 h 30\n\n\n\nArrive avant 11 h 15 pour commander au resto et dîner avec nous\n\n\n\n\nLes vendredis après-midi sont consacrés aux divertissements pour tous nos membres adolescents et adultes (jeux de société\, jeux vidéo\, films populaires\, dessiner ou simplement discuter…). Mais\, prenez note qu’il ne s’agit pas d’un service de garde. Votre enfant doit être assez autonome. L’activité a lieu au local d’Autisme Mauricie.
URL:https://www.autismemauricie.com/event/les-vendredis-en-folie/2026-05-22/
CATEGORIES:Les vendredis en Folie
ATTACH;FMTTYPE=image/png:https://www.autismemauricie.com/wp-content/uploads/2023/09/Screenshot-2023-09-18-184222.png
END:VEVENT
BEGIN:VEVENT
DTSTART;TZID=Europe/Paris:20260529T083000
DTEND;TZID=Europe/Paris:20260529T163000
DTSTAMP:20260421T053756
CREATED:20251015T172703Z
LAST-MODIFIED:20251015T172712Z
UID:10005033-1780043400-1780072200@www.autismemauricie.com
SUMMARY:Les vendredis en Folie
DESCRIPTION:Dès l’ouverture jusqu’à 16 h 30\n\n\n\nArrive avant 11 h 15 pour commander au resto et dîner avec nous\n\n\n\n\nLes vendredis après-midi sont consacrés aux divertissements pour tous nos membres adolescents et adultes (jeux de société\, jeux vidéo\, films populaires\, dessiner ou simplement discuter…). Mais\, prenez note qu’il ne s’agit pas d’un service de garde. Votre enfant doit être assez autonome. L’activité a lieu au local d’Autisme Mauricie.
URL:https://www.autismemauricie.com/event/les-vendredis-en-folie/2026-05-29/
CATEGORIES:Les vendredis en Folie
ATTACH;FMTTYPE=image/png:https://www.autismemauricie.com/wp-content/uploads/2023/09/Screenshot-2023-09-18-184222.png
END:VEVENT
BEGIN:VEVENT
DTSTART;TZID=Europe/Paris:20260605T083000
DTEND;TZID=Europe/Paris:20260605T163000
DTSTAMP:20260421T053756
CREATED:20251015T172703Z
LAST-MODIFIED:20251015T172712Z
UID:10005034-1780648200-1780677000@www.autismemauricie.com
SUMMARY:Les vendredis en Folie
DESCRIPTION:Dès l’ouverture jusqu’à 16 h 30\n\n\n\nArrive avant 11 h 15 pour commander au resto et dîner avec nous\n\n\n\n\nLes vendredis après-midi sont consacrés aux divertissements pour tous nos membres adolescents et adultes (jeux de société\, jeux vidéo\, films populaires\, dessiner ou simplement discuter…). Mais\, prenez note qu’il ne s’agit pas d’un service de garde. Votre enfant doit être assez autonome. L’activité a lieu au local d’Autisme Mauricie.
URL:https://www.autismemauricie.com/event/les-vendredis-en-folie/2026-06-05/
CATEGORIES:Les vendredis en Folie
ATTACH;FMTTYPE=image/png:https://www.autismemauricie.com/wp-content/uploads/2023/09/Screenshot-2023-09-18-184222.png
END:VEVENT
BEGIN:VEVENT
DTSTART;TZID=Europe/Paris:20260612T083000
DTEND;TZID=Europe/Paris:20260612T163000
DTSTAMP:20260421T053756
CREATED:20251015T172703Z
LAST-MODIFIED:20251015T172712Z
UID:10005035-1781253000-1781281800@www.autismemauricie.com
SUMMARY:Les vendredis en Folie
DESCRIPTION:Dès l’ouverture jusqu’à 16 h 30\n\n\n\nArrive avant 11 h 15 pour commander au resto et dîner avec nous\n\n\n\n\nLes vendredis après-midi sont consacrés aux divertissements pour tous nos membres adolescents et adultes (jeux de société\, jeux vidéo\, films populaires\, dessiner ou simplement discuter…). Mais\, prenez note qu’il ne s’agit pas d’un service de garde. Votre enfant doit être assez autonome. L’activité a lieu au local d’Autisme Mauricie.
URL:https://www.autismemauricie.com/event/les-vendredis-en-folie/2026-06-12/
CATEGORIES:Les vendredis en Folie
ATTACH;FMTTYPE=image/png:https://www.autismemauricie.com/wp-content/uploads/2023/09/Screenshot-2023-09-18-184222.png
END:VEVENT
BEGIN:VEVENT
DTSTART;TZID=Europe/Paris:20260619T083000
DTEND;TZID=Europe/Paris:20260619T163000
DTSTAMP:20260421T053756
CREATED:20251015T172703Z
LAST-MODIFIED:20251015T172712Z
UID:10005036-1781857800-1781886600@www.autismemauricie.com
SUMMARY:Les vendredis en Folie
DESCRIPTION:Dès l’ouverture jusqu’à 16 h 30\n\n\n\nArrive avant 11 h 15 pour commander au resto et dîner avec nous\n\n\n\n\nLes vendredis après-midi sont consacrés aux divertissements pour tous nos membres adolescents et adultes (jeux de société\, jeux vidéo\, films populaires\, dessiner ou simplement discuter…). Mais\, prenez note qu’il ne s’agit pas d’un service de garde. Votre enfant doit être assez autonome. L’activité a lieu au local d’Autisme Mauricie.
URL:https://www.autismemauricie.com/event/les-vendredis-en-folie/2026-06-19/
CATEGORIES:Les vendredis en Folie
ATTACH;FMTTYPE=image/png:https://www.autismemauricie.com/wp-content/uploads/2023/09/Screenshot-2023-09-18-184222.png
END:VEVENT
BEGIN:VEVENT
DTSTART;TZID=Europe/Paris:20260626T083000
DTEND;TZID=Europe/Paris:20260626T163000
DTSTAMP:20260421T053756
CREATED:20251015T172703Z
LAST-MODIFIED:20251015T172712Z
UID:10005037-1782462600-1782491400@www.autismemauricie.com
SUMMARY:Les vendredis en Folie
DESCRIPTION:Dès l’ouverture jusqu’à 16 h 30\n\n\n\nArrive avant 11 h 15 pour commander au resto et dîner avec nous\n\n\n\n\nLes vendredis après-midi sont consacrés aux divertissements pour tous nos membres adolescents et adultes (jeux de société\, jeux vidéo\, films populaires\, dessiner ou simplement discuter…). Mais\, prenez note qu’il ne s’agit pas d’un service de garde. Votre enfant doit être assez autonome. L’activité a lieu au local d’Autisme Mauricie.
URL:https://www.autismemauricie.com/event/les-vendredis-en-folie/2026-06-26/
CATEGORIES:Les vendredis en Folie
ATTACH;FMTTYPE=image/png:https://www.autismemauricie.com/wp-content/uploads/2023/09/Screenshot-2023-09-18-184222.png
END:VEVENT
BEGIN:VEVENT
DTSTART;TZID=Europe/Paris:20260703T083000
DTEND;TZID=Europe/Paris:20260703T163000
DTSTAMP:20260421T053756
CREATED:20251015T172703Z
LAST-MODIFIED:20251015T172712Z
UID:10005038-1783067400-1783096200@www.autismemauricie.com
SUMMARY:Les vendredis en Folie
DESCRIPTION:Dès l’ouverture jusqu’à 16 h 30\n\n\n\nArrive avant 11 h 15 pour commander au resto et dîner avec nous\n\n\n\n\nLes vendredis après-midi sont consacrés aux divertissements pour tous nos membres adolescents et adultes (jeux de société\, jeux vidéo\, films populaires\, dessiner ou simplement discuter…). Mais\, prenez note qu’il ne s’agit pas d’un service de garde. Votre enfant doit être assez autonome. L’activité a lieu au local d’Autisme Mauricie.
URL:https://www.autismemauricie.com/event/les-vendredis-en-folie/2026-07-03/
CATEGORIES:Les vendredis en Folie
ATTACH;FMTTYPE=image/png:https://www.autismemauricie.com/wp-content/uploads/2023/09/Screenshot-2023-09-18-184222.png
END:VEVENT
BEGIN:VEVENT
DTSTART;TZID=Europe/Paris:20260710T083000
DTEND;TZID=Europe/Paris:20260710T163000
DTSTAMP:20260421T053756
CREATED:20251015T172703Z
LAST-MODIFIED:20251015T172712Z
UID:10005039-1783672200-1783701000@www.autismemauricie.com
SUMMARY:Les vendredis en Folie
DESCRIPTION:Dès l’ouverture jusqu’à 16 h 30\n\n\n\nArrive avant 11 h 15 pour commander au resto et dîner avec nous\n\n\n\n\nLes vendredis après-midi sont consacrés aux divertissements pour tous nos membres adolescents et adultes (jeux de société\, jeux vidéo\, films populaires\, dessiner ou simplement discuter…). Mais\, prenez note qu’il ne s’agit pas d’un service de garde. Votre enfant doit être assez autonome. L’activité a lieu au local d’Autisme Mauricie.
URL:https://www.autismemauricie.com/event/les-vendredis-en-folie/2026-07-10/
CATEGORIES:Les vendredis en Folie
ATTACH;FMTTYPE=image/png:https://www.autismemauricie.com/wp-content/uploads/2023/09/Screenshot-2023-09-18-184222.png
END:VEVENT
BEGIN:VEVENT
DTSTART;TZID=Europe/Paris:20260717T083000
DTEND;TZID=Europe/Paris:20260717T163000
DTSTAMP:20260421T053756
CREATED:20251015T172703Z
LAST-MODIFIED:20251015T172712Z
UID:10005040-1784277000-1784305800@www.autismemauricie.com
SUMMARY:Les vendredis en Folie
DESCRIPTION:Dès l’ouverture jusqu’à 16 h 30\n\n\n\nArrive avant 11 h 15 pour commander au resto et dîner avec nous\n\n\n\n\nLes vendredis après-midi sont consacrés aux divertissements pour tous nos membres adolescents et adultes (jeux de société\, jeux vidéo\, films populaires\, dessiner ou simplement discuter…). Mais\, prenez note qu’il ne s’agit pas d’un service de garde. Votre enfant doit être assez autonome. L’activité a lieu au local d’Autisme Mauricie.
URL:https://www.autismemauricie.com/event/les-vendredis-en-folie/2026-07-17/
CATEGORIES:Les vendredis en Folie
ATTACH;FMTTYPE=image/png:https://www.autismemauricie.com/wp-content/uploads/2023/09/Screenshot-2023-09-18-184222.png
END:VEVENT
BEGIN:VEVENT
DTSTART;TZID=Europe/Paris:20260724T083000
DTEND;TZID=Europe/Paris:20260724T163000
DTSTAMP:20260421T053756
CREATED:20251015T172703Z
LAST-MODIFIED:20251015T172712Z
UID:10005041-1784881800-1784910600@www.autismemauricie.com
SUMMARY:Les vendredis en Folie
DESCRIPTION:Dès l’ouverture jusqu’à 16 h 30\n\n\n\nArrive avant 11 h 15 pour commander au resto et dîner avec nous\n\n\n\n\nLes vendredis après-midi sont consacrés aux divertissements pour tous nos membres adolescents et adultes (jeux de société\, jeux vidéo\, films populaires\, dessiner ou simplement discuter…). Mais\, prenez note qu’il ne s’agit pas d’un service de garde. Votre enfant doit être assez autonome. L’activité a lieu au local d’Autisme Mauricie.
URL:https://www.autismemauricie.com/event/les-vendredis-en-folie/2026-07-24/
CATEGORIES:Les vendredis en Folie
ATTACH;FMTTYPE=image/png:https://www.autismemauricie.com/wp-content/uploads/2023/09/Screenshot-2023-09-18-184222.png
END:VEVENT
BEGIN:VEVENT
DTSTART;TZID=Europe/Paris:20260731T083000
DTEND;TZID=Europe/Paris:20260731T163000
DTSTAMP:20260421T053756
CREATED:20251015T172703Z
LAST-MODIFIED:20251015T172712Z
UID:10005042-1785486600-1785515400@www.autismemauricie.com
SUMMARY:Les vendredis en Folie
DESCRIPTION:Dès l’ouverture jusqu’à 16 h 30\n\n\n\nArrive avant 11 h 15 pour commander au resto et dîner avec nous\n\n\n\n\nLes vendredis après-midi sont consacrés aux divertissements pour tous nos membres adolescents et adultes (jeux de société\, jeux vidéo\, films populaires\, dessiner ou simplement discuter…). Mais\, prenez note qu’il ne s’agit pas d’un service de garde. Votre enfant doit être assez autonome. L’activité a lieu au local d’Autisme Mauricie.
URL:https://www.autismemauricie.com/event/les-vendredis-en-folie/2026-07-31/
CATEGORIES:Les vendredis en Folie
ATTACH;FMTTYPE=image/png:https://www.autismemauricie.com/wp-content/uploads/2023/09/Screenshot-2023-09-18-184222.png
END:VEVENT
BEGIN:VEVENT
DTSTART;TZID=Europe/Paris:20260807T083000
DTEND;TZID=Europe/Paris:20260807T163000
DTSTAMP:20260421T053756
CREATED:20251015T172703Z
LAST-MODIFIED:20251015T172712Z
UID:10005043-1786091400-1786120200@www.autismemauricie.com
SUMMARY:Les vendredis en Folie
DESCRIPTION:Dès l’ouverture jusqu’à 16 h 30\n\n\n\nArrive avant 11 h 15 pour commander au resto et dîner avec nous\n\n\n\n\nLes vendredis après-midi sont consacrés aux divertissements pour tous nos membres adolescents et adultes (jeux de société\, jeux vidéo\, films populaires\, dessiner ou simplement discuter…). Mais\, prenez note qu’il ne s’agit pas d’un service de garde. Votre enfant doit être assez autonome. L’activité a lieu au local d’Autisme Mauricie.
URL:https://www.autismemauricie.com/event/les-vendredis-en-folie/2026-08-07/
CATEGORIES:Les vendredis en Folie
ATTACH;FMTTYPE=image/png:https://www.autismemauricie.com/wp-content/uploads/2023/09/Screenshot-2023-09-18-184222.png
END:VEVENT
BEGIN:VEVENT
DTSTART;TZID=Europe/Paris:20260814T083000
DTEND;TZID=Europe/Paris:20260814T163000
DTSTAMP:20260421T053756
CREATED:20251015T172703Z
LAST-MODIFIED:20251015T172712Z
UID:10005044-1786696200-1786725000@www.autismemauricie.com
SUMMARY:Les vendredis en Folie
DESCRIPTION:Dès l’ouverture jusqu’à 16 h 30\n\n\n\nArrive avant 11 h 15 pour commander au resto et dîner avec nous\n\n\n\n\nLes vendredis après-midi sont consacrés aux divertissements pour tous nos membres adolescents et adultes (jeux de société\, jeux vidéo\, films populaires\, dessiner ou simplement discuter…). Mais\, prenez note qu’il ne s’agit pas d’un service de garde. Votre enfant doit être assez autonome. L’activité a lieu au local d’Autisme Mauricie.
URL:https://www.autismemauricie.com/event/les-vendredis-en-folie/2026-08-14/
CATEGORIES:Les vendredis en Folie
ATTACH;FMTTYPE=image/png:https://www.autismemauricie.com/wp-content/uploads/2023/09/Screenshot-2023-09-18-184222.png
END:VEVENT
BEGIN:VEVENT
DTSTART;TZID=Europe/Paris:20260821T083000
DTEND;TZID=Europe/Paris:20260821T163000
DTSTAMP:20260421T053756
CREATED:20251015T172703Z
LAST-MODIFIED:20251015T172712Z
UID:10005045-1787301000-1787329800@www.autismemauricie.com
SUMMARY:Les vendredis en Folie
DESCRIPTION:Dès l’ouverture jusqu’à 16 h 30\n\n\n\nArrive avant 11 h 15 pour commander au resto et dîner avec nous\n\n\n\n\nLes vendredis après-midi sont consacrés aux divertissements pour tous nos membres adolescents et adultes (jeux de société\, jeux vidéo\, films populaires\, dessiner ou simplement discuter…). Mais\, prenez note qu’il ne s’agit pas d’un service de garde. Votre enfant doit être assez autonome. L’activité a lieu au local d’Autisme Mauricie.
URL:https://www.autismemauricie.com/event/les-vendredis-en-folie/2026-08-21/
CATEGORIES:Les vendredis en Folie
ATTACH;FMTTYPE=image/png:https://www.autismemauricie.com/wp-content/uploads/2023/09/Screenshot-2023-09-18-184222.png
END:VEVENT
BEGIN:VEVENT
DTSTART;TZID=Europe/Paris:20260828T083000
DTEND;TZID=Europe/Paris:20260828T163000
DTSTAMP:20260421T053756
CREATED:20251015T172703Z
LAST-MODIFIED:20251015T172712Z
UID:10005046-1787905800-1787934600@www.autismemauricie.com
SUMMARY:Les vendredis en Folie
DESCRIPTION:Dès l’ouverture jusqu’à 16 h 30\n\n\n\nArrive avant 11 h 15 pour commander au resto et dîner avec nous\n\n\n\n\nLes vendredis après-midi sont consacrés aux divertissements pour tous nos membres adolescents et adultes (jeux de société\, jeux vidéo\, films populaires\, dessiner ou simplement discuter…). Mais\, prenez note qu’il ne s’agit pas d’un service de garde. Votre enfant doit être assez autonome. L’activité a lieu au local d’Autisme Mauricie.
URL:https://www.autismemauricie.com/event/les-vendredis-en-folie/2026-08-28/
CATEGORIES:Les vendredis en Folie
ATTACH;FMTTYPE=image/png:https://www.autismemauricie.com/wp-content/uploads/2023/09/Screenshot-2023-09-18-184222.png
END:VEVENT
BEGIN:VEVENT
DTSTART;TZID=Europe/Paris:20260904T083000
DTEND;TZID=Europe/Paris:20260904T163000
DTSTAMP:20260421T053756
CREATED:20251015T172703Z
LAST-MODIFIED:20251015T172712Z
UID:10005047-1788510600-1788539400@www.autismemauricie.com
SUMMARY:Les vendredis en Folie
DESCRIPTION:Dès l’ouverture jusqu’à 16 h 30\n\n\n\nArrive avant 11 h 15 pour commander au resto et dîner avec nous\n\n\n\n\nLes vendredis après-midi sont consacrés aux divertissements pour tous nos membres adolescents et adultes (jeux de société\, jeux vidéo\, films populaires\, dessiner ou simplement discuter…). Mais\, prenez note qu’il ne s’agit pas d’un service de garde. Votre enfant doit être assez autonome. L’activité a lieu au local d’Autisme Mauricie.
URL:https://www.autismemauricie.com/event/les-vendredis-en-folie/2026-09-04/
CATEGORIES:Les vendredis en Folie
ATTACH;FMTTYPE=image/png:https://www.autismemauricie.com/wp-content/uploads/2023/09/Screenshot-2023-09-18-184222.png
END:VEVENT
BEGIN:VEVENT
DTSTART;TZID=Europe/Paris:20260911T083000
DTEND;TZID=Europe/Paris:20260911T163000
DTSTAMP:20260421T053756
CREATED:20251015T172703Z
LAST-MODIFIED:20251015T172712Z
UID:10005048-1789115400-1789144200@www.autismemauricie.com
SUMMARY:Les vendredis en Folie
DESCRIPTION:Dès l’ouverture jusqu’à 16 h 30\n\n\n\nArrive avant 11 h 15 pour commander au resto et dîner avec nous\n\n\n\n\nLes vendredis après-midi sont consacrés aux divertissements pour tous nos membres adolescents et adultes (jeux de société\, jeux vidéo\, films populaires\, dessiner ou simplement discuter…). Mais\, prenez note qu’il ne s’agit pas d’un service de garde. Votre enfant doit être assez autonome. L’activité a lieu au local d’Autisme Mauricie.
URL:https://www.autismemauricie.com/event/les-vendredis-en-folie/2026-09-11/
CATEGORIES:Les vendredis en Folie
ATTACH;FMTTYPE=image/png:https://www.autismemauricie.com/wp-content/uploads/2023/09/Screenshot-2023-09-18-184222.png
END:VEVENT
BEGIN:VEVENT
DTSTART;TZID=Europe/Paris:20260918T083000
DTEND;TZID=Europe/Paris:20260918T163000
DTSTAMP:20260421T053756
CREATED:20251015T172703Z
LAST-MODIFIED:20251015T172712Z
UID:10005049-1789720200-1789749000@www.autismemauricie.com
SUMMARY:Les vendredis en Folie
DESCRIPTION:Dès l’ouverture jusqu’à 16 h 30\n\n\n\nArrive avant 11 h 15 pour commander au resto et dîner avec nous\n\n\n\n\nLes vendredis après-midi sont consacrés aux divertissements pour tous nos membres adolescents et adultes (jeux de société\, jeux vidéo\, films populaires\, dessiner ou simplement discuter…). Mais\, prenez note qu’il ne s’agit pas d’un service de garde. Votre enfant doit être assez autonome. L’activité a lieu au local d’Autisme Mauricie.
URL:https://www.autismemauricie.com/event/les-vendredis-en-folie/2026-09-18/
CATEGORIES:Les vendredis en Folie
ATTACH;FMTTYPE=image/png:https://www.autismemauricie.com/wp-content/uploads/2023/09/Screenshot-2023-09-18-184222.png
END:VEVENT
BEGIN:VEVENT
DTSTART;TZID=Europe/Paris:20260925T083000
DTEND;TZID=Europe/Paris:20260925T163000
DTSTAMP:20260421T053756
CREATED:20251015T172703Z
LAST-MODIFIED:20251015T172712Z
UID:10005050-1790325000-1790353800@www.autismemauricie.com
SUMMARY:Les vendredis en Folie
DESCRIPTION:Dès l’ouverture jusqu’à 16 h 30\n\n\n\nArrive avant 11 h 15 pour commander au resto et dîner avec nous\n\n\n\n\nLes vendredis après-midi sont consacrés aux divertissements pour tous nos membres adolescents et adultes (jeux de société\, jeux vidéo\, films populaires\, dessiner ou simplement discuter…). Mais\, prenez note qu’il ne s’agit pas d’un service de garde. Votre enfant doit être assez autonome. L’activité a lieu au local d’Autisme Mauricie.
URL:https://www.autismemauricie.com/event/les-vendredis-en-folie/2026-09-25/
CATEGORIES:Les vendredis en Folie
ATTACH;FMTTYPE=image/png:https://www.autismemauricie.com/wp-content/uploads/2023/09/Screenshot-2023-09-18-184222.png
END:VEVENT
BEGIN:VEVENT
DTSTART;TZID=Europe/Paris:20261002T083000
DTEND;TZID=Europe/Paris:20261002T163000
DTSTAMP:20260421T053756
CREATED:20251015T172703Z
LAST-MODIFIED:20251015T172712Z
UID:10005051-1790929800-1790958600@www.autismemauricie.com
SUMMARY:Les vendredis en Folie
DESCRIPTION:Dès l’ouverture jusqu’à 16 h 30\n\n\n\nArrive avant 11 h 15 pour commander au resto et dîner avec nous\n\n\n\n\nLes vendredis après-midi sont consacrés aux divertissements pour tous nos membres adolescents et adultes (jeux de société\, jeux vidéo\, films populaires\, dessiner ou simplement discuter…). Mais\, prenez note qu’il ne s’agit pas d’un service de garde. Votre enfant doit être assez autonome. L’activité a lieu au local d’Autisme Mauricie.
URL:https://www.autismemauricie.com/event/les-vendredis-en-folie/2026-10-02/
CATEGORIES:Les vendredis en Folie
ATTACH;FMTTYPE=image/png:https://www.autismemauricie.com/wp-content/uploads/2023/09/Screenshot-2023-09-18-184222.png
END:VEVENT
BEGIN:VEVENT
DTSTART;TZID=Europe/Paris:20261009T083000
DTEND;TZID=Europe/Paris:20261009T163000
DTSTAMP:20260421T053756
CREATED:20251015T172703Z
LAST-MODIFIED:20251015T172712Z
UID:10005052-1791534600-1791563400@www.autismemauricie.com
SUMMARY:Les vendredis en Folie
DESCRIPTION:Dès l’ouverture jusqu’à 16 h 30\n\n\n\nArrive avant 11 h 15 pour commander au resto et dîner avec nous\n\n\n\n\nLes vendredis après-midi sont consacrés aux divertissements pour tous nos membres adolescents et adultes (jeux de société\, jeux vidéo\, films populaires\, dessiner ou simplement discuter…). Mais\, prenez note qu’il ne s’agit pas d’un service de garde. Votre enfant doit être assez autonome. L’activité a lieu au local d’Autisme Mauricie.
URL:https://www.autismemauricie.com/event/les-vendredis-en-folie/2026-10-09/
CATEGORIES:Les vendredis en Folie
ATTACH;FMTTYPE=image/png:https://www.autismemauricie.com/wp-content/uploads/2023/09/Screenshot-2023-09-18-184222.png
END:VEVENT
BEGIN:VEVENT
DTSTART;TZID=Europe/Paris:20261016T083000
DTEND;TZID=Europe/Paris:20261016T163000
DTSTAMP:20260421T053756
CREATED:20251015T172703Z
LAST-MODIFIED:20251015T172712Z
UID:10005053-1792139400-1792168200@www.autismemauricie.com
SUMMARY:Les vendredis en Folie
DESCRIPTION:Dès l’ouverture jusqu’à 16 h 30\n\n\n\nArrive avant 11 h 15 pour commander au resto et dîner avec nous\n\n\n\n\nLes vendredis après-midi sont consacrés aux divertissements pour tous nos membres adolescents et adultes (jeux de société\, jeux vidéo\, films populaires\, dessiner ou simplement discuter…). Mais\, prenez note qu’il ne s’agit pas d’un service de garde. Votre enfant doit être assez autonome. L’activité a lieu au local d’Autisme Mauricie.
URL:https://www.autismemauricie.com/event/les-vendredis-en-folie/2026-10-16/
CATEGORIES:Les vendredis en Folie
ATTACH;FMTTYPE=image/png:https://www.autismemauricie.com/wp-content/uploads/2023/09/Screenshot-2023-09-18-184222.png
END:VEVENT
BEGIN:VEVENT
DTSTART;TZID=Europe/Paris:20261023T083000
DTEND;TZID=Europe/Paris:20261023T163000
DTSTAMP:20260421T053756
CREATED:20251015T172703Z
LAST-MODIFIED:20251015T172712Z
UID:10005054-1792744200-1792773000@www.autismemauricie.com
SUMMARY:Les vendredis en Folie
DESCRIPTION:Dès l’ouverture jusqu’à 16 h 30\n\n\n\nArrive avant 11 h 15 pour commander au resto et dîner avec nous\n\n\n\n\nLes vendredis après-midi sont consacrés aux divertissements pour tous nos membres adolescents et adultes (jeux de société\, jeux vidéo\, films populaires\, dessiner ou simplement discuter…). Mais\, prenez note qu’il ne s’agit pas d’un service de garde. Votre enfant doit être assez autonome. L’activité a lieu au local d’Autisme Mauricie.
URL:https://www.autismemauricie.com/event/les-vendredis-en-folie/2026-10-23/
CATEGORIES:Les vendredis en Folie
ATTACH;FMTTYPE=image/png:https://www.autismemauricie.com/wp-content/uploads/2023/09/Screenshot-2023-09-18-184222.png
END:VEVENT
BEGIN:VEVENT
DTSTART;TZID=Europe/Paris:20261030T083000
DTEND;TZID=Europe/Paris:20261030T163000
DTSTAMP:20260421T053756
CREATED:20251015T172703Z
LAST-MODIFIED:20251015T172712Z
UID:10005055-1793349000-1793377800@www.autismemauricie.com
SUMMARY:Les vendredis en Folie
DESCRIPTION:Dès l’ouverture jusqu’à 16 h 30\n\n\n\nArrive avant 11 h 15 pour commander au resto et dîner avec nous\n\n\n\n\nLes vendredis après-midi sont consacrés aux divertissements pour tous nos membres adolescents et adultes (jeux de société\, jeux vidéo\, films populaires\, dessiner ou simplement discuter…). Mais\, prenez note qu’il ne s’agit pas d’un service de garde. Votre enfant doit être assez autonome. L’activité a lieu au local d’Autisme Mauricie.
URL:https://www.autismemauricie.com/event/les-vendredis-en-folie/2026-10-30/
CATEGORIES:Les vendredis en Folie
ATTACH;FMTTYPE=image/png:https://www.autismemauricie.com/wp-content/uploads/2023/09/Screenshot-2023-09-18-184222.png
END:VEVENT
BEGIN:VEVENT
DTSTART;TZID=Europe/Paris:20261106T083000
DTEND;TZID=Europe/Paris:20261106T163000
DTSTAMP:20260421T053756
CREATED:20251015T172703Z
LAST-MODIFIED:20251015T172712Z
UID:10005056-1793953800-1793982600@www.autismemauricie.com
SUMMARY:Les vendredis en Folie
DESCRIPTION:Dès l’ouverture jusqu’à 16 h 30\n\n\n\nArrive avant 11 h 15 pour commander au resto et dîner avec nous\n\n\n\n\nLes vendredis après-midi sont consacrés aux divertissements pour tous nos membres adolescents et adultes (jeux de société\, jeux vidéo\, films populaires\, dessiner ou simplement discuter…). Mais\, prenez note qu’il ne s’agit pas d’un service de garde. Votre enfant doit être assez autonome. L’activité a lieu au local d’Autisme Mauricie.
URL:https://www.autismemauricie.com/event/les-vendredis-en-folie/2026-11-06/
CATEGORIES:Les vendredis en Folie
ATTACH;FMTTYPE=image/png:https://www.autismemauricie.com/wp-content/uploads/2023/09/Screenshot-2023-09-18-184222.png
END:VEVENT
BEGIN:VEVENT
DTSTART;TZID=Europe/Paris:20261113T083000
DTEND;TZID=Europe/Paris:20261113T163000
DTSTAMP:20260421T053756
CREATED:20251015T172703Z
LAST-MODIFIED:20251015T172712Z
UID:10005057-1794558600-1794587400@www.autismemauricie.com
SUMMARY:Les vendredis en Folie
DESCRIPTION:Dès l’ouverture jusqu’à 16 h 30\n\n\n\nArrive avant 11 h 15 pour commander au resto et dîner avec nous\n\n\n\n\nLes vendredis après-midi sont consacrés aux divertissements pour tous nos membres adolescents et adultes (jeux de société\, jeux vidéo\, films populaires\, dessiner ou simplement discuter…). Mais\, prenez note qu’il ne s’agit pas d’un service de garde. Votre enfant doit être assez autonome. L’activité a lieu au local d’Autisme Mauricie.
URL:https://www.autismemauricie.com/event/les-vendredis-en-folie/2026-11-13/
CATEGORIES:Les vendredis en Folie
ATTACH;FMTTYPE=image/png:https://www.autismemauricie.com/wp-content/uploads/2023/09/Screenshot-2023-09-18-184222.png
END:VEVENT
END:VCALENDAR