BEGIN:VCALENDAR
VERSION:2.0
PRODID:-//Autisme Mauricie - ECPv6.11.0//NONSGML v1.0//EN
CALSCALE:GREGORIAN
METHOD:PUBLISH
X-ORIGINAL-URL:https://www.autismemauricie.com
X-WR-CALDESC:Évènements pour Autisme Mauricie
REFRESH-INTERVAL;VALUE=DURATION:PT1H
X-Robots-Tag:noindex
X-PUBLISHED-TTL:PT1H
BEGIN:VTIMEZONE
TZID:Europe/Paris
BEGIN:DAYLIGHT
TZOFFSETFROM:+0100
TZOFFSETTO:+0200
TZNAME:CEST
DTSTART:20290325T010000
END:DAYLIGHT
BEGIN:STANDARD
TZOFFSETFROM:+0200
TZOFFSETTO:+0100
TZNAME:CET
DTSTART:20291028T010000
END:STANDARD
END:VTIMEZONE
BEGIN:VEVENT
DTSTART;TZID=Europe/Paris:20290420T083000
DTEND;TZID=Europe/Paris:20290420T163000
DTSTAMP:20260424T044708
CREATED:20251015T172703Z
LAST-MODIFIED:20251015T172712Z
UID:10005184-1871368200-1871397000@www.autismemauricie.com
SUMMARY:Les vendredis en Folie
DESCRIPTION:Dès l’ouverture jusqu’à 16 h 30\n\n\n\nArrive avant 11 h 15 pour commander au resto et dîner avec nous\n\n\n\n\nLes vendredis après-midi sont consacrés aux divertissements pour tous nos membres adolescents et adultes (jeux de société\, jeux vidéo\, films populaires\, dessiner ou simplement discuter…). Mais\, prenez note qu’il ne s’agit pas d’un service de garde. Votre enfant doit être assez autonome. L’activité a lieu au local d’Autisme Mauricie.
URL:https://www.autismemauricie.com/event/les-vendredis-en-folie/2029-04-20/
CATEGORIES:Les vendredis en Folie
ATTACH;FMTTYPE=image/png:https://www.autismemauricie.com/wp-content/uploads/2023/09/Screenshot-2023-09-18-184222.png
END:VEVENT
BEGIN:VEVENT
DTSTART;TZID=Europe/Paris:20290427T083000
DTEND;TZID=Europe/Paris:20290427T163000
DTSTAMP:20260424T044708
CREATED:20251015T172703Z
LAST-MODIFIED:20251015T172712Z
UID:10005185-1871973000-1872001800@www.autismemauricie.com
SUMMARY:Les vendredis en Folie
DESCRIPTION:Dès l’ouverture jusqu’à 16 h 30\n\n\n\nArrive avant 11 h 15 pour commander au resto et dîner avec nous\n\n\n\n\nLes vendredis après-midi sont consacrés aux divertissements pour tous nos membres adolescents et adultes (jeux de société\, jeux vidéo\, films populaires\, dessiner ou simplement discuter…). Mais\, prenez note qu’il ne s’agit pas d’un service de garde. Votre enfant doit être assez autonome. L’activité a lieu au local d’Autisme Mauricie.
URL:https://www.autismemauricie.com/event/les-vendredis-en-folie/2029-04-27/
CATEGORIES:Les vendredis en Folie
ATTACH;FMTTYPE=image/png:https://www.autismemauricie.com/wp-content/uploads/2023/09/Screenshot-2023-09-18-184222.png
END:VEVENT
BEGIN:VEVENT
DTSTART;TZID=Europe/Paris:20290504T083000
DTEND;TZID=Europe/Paris:20290504T163000
DTSTAMP:20260424T044708
CREATED:20251015T172703Z
LAST-MODIFIED:20251015T172712Z
UID:10005186-1872577800-1872606600@www.autismemauricie.com
SUMMARY:Les vendredis en Folie
DESCRIPTION:Dès l’ouverture jusqu’à 16 h 30\n\n\n\nArrive avant 11 h 15 pour commander au resto et dîner avec nous\n\n\n\n\nLes vendredis après-midi sont consacrés aux divertissements pour tous nos membres adolescents et adultes (jeux de société\, jeux vidéo\, films populaires\, dessiner ou simplement discuter…). Mais\, prenez note qu’il ne s’agit pas d’un service de garde. Votre enfant doit être assez autonome. L’activité a lieu au local d’Autisme Mauricie.
URL:https://www.autismemauricie.com/event/les-vendredis-en-folie/2029-05-04/
CATEGORIES:Les vendredis en Folie
ATTACH;FMTTYPE=image/png:https://www.autismemauricie.com/wp-content/uploads/2023/09/Screenshot-2023-09-18-184222.png
END:VEVENT
BEGIN:VEVENT
DTSTART;TZID=Europe/Paris:20290511T083000
DTEND;TZID=Europe/Paris:20290511T163000
DTSTAMP:20260424T044708
CREATED:20251015T172703Z
LAST-MODIFIED:20251015T172712Z
UID:10005187-1873182600-1873211400@www.autismemauricie.com
SUMMARY:Les vendredis en Folie
DESCRIPTION:Dès l’ouverture jusqu’à 16 h 30\n\n\n\nArrive avant 11 h 15 pour commander au resto et dîner avec nous\n\n\n\n\nLes vendredis après-midi sont consacrés aux divertissements pour tous nos membres adolescents et adultes (jeux de société\, jeux vidéo\, films populaires\, dessiner ou simplement discuter…). Mais\, prenez note qu’il ne s’agit pas d’un service de garde. Votre enfant doit être assez autonome. L’activité a lieu au local d’Autisme Mauricie.
URL:https://www.autismemauricie.com/event/les-vendredis-en-folie/2029-05-11/
CATEGORIES:Les vendredis en Folie
ATTACH;FMTTYPE=image/png:https://www.autismemauricie.com/wp-content/uploads/2023/09/Screenshot-2023-09-18-184222.png
END:VEVENT
BEGIN:VEVENT
DTSTART;TZID=Europe/Paris:20290518T083000
DTEND;TZID=Europe/Paris:20290518T163000
DTSTAMP:20260424T044708
CREATED:20251015T172703Z
LAST-MODIFIED:20251015T172712Z
UID:10005188-1873787400-1873816200@www.autismemauricie.com
SUMMARY:Les vendredis en Folie
DESCRIPTION:Dès l’ouverture jusqu’à 16 h 30\n\n\n\nArrive avant 11 h 15 pour commander au resto et dîner avec nous\n\n\n\n\nLes vendredis après-midi sont consacrés aux divertissements pour tous nos membres adolescents et adultes (jeux de société\, jeux vidéo\, films populaires\, dessiner ou simplement discuter…). Mais\, prenez note qu’il ne s’agit pas d’un service de garde. Votre enfant doit être assez autonome. L’activité a lieu au local d’Autisme Mauricie.
URL:https://www.autismemauricie.com/event/les-vendredis-en-folie/2029-05-18/
CATEGORIES:Les vendredis en Folie
ATTACH;FMTTYPE=image/png:https://www.autismemauricie.com/wp-content/uploads/2023/09/Screenshot-2023-09-18-184222.png
END:VEVENT
BEGIN:VEVENT
DTSTART;TZID=Europe/Paris:20290525T083000
DTEND;TZID=Europe/Paris:20290525T163000
DTSTAMP:20260424T044708
CREATED:20251015T172703Z
LAST-MODIFIED:20251015T172712Z
UID:10005189-1874392200-1874421000@www.autismemauricie.com
SUMMARY:Les vendredis en Folie
DESCRIPTION:Dès l’ouverture jusqu’à 16 h 30\n\n\n\nArrive avant 11 h 15 pour commander au resto et dîner avec nous\n\n\n\n\nLes vendredis après-midi sont consacrés aux divertissements pour tous nos membres adolescents et adultes (jeux de société\, jeux vidéo\, films populaires\, dessiner ou simplement discuter…). Mais\, prenez note qu’il ne s’agit pas d’un service de garde. Votre enfant doit être assez autonome. L’activité a lieu au local d’Autisme Mauricie.
URL:https://www.autismemauricie.com/event/les-vendredis-en-folie/2029-05-25/
CATEGORIES:Les vendredis en Folie
ATTACH;FMTTYPE=image/png:https://www.autismemauricie.com/wp-content/uploads/2023/09/Screenshot-2023-09-18-184222.png
END:VEVENT
BEGIN:VEVENT
DTSTART;TZID=Europe/Paris:20290601T083000
DTEND;TZID=Europe/Paris:20290601T163000
DTSTAMP:20260424T044708
CREATED:20251015T172703Z
LAST-MODIFIED:20251015T172712Z
UID:10005190-1874997000-1875025800@www.autismemauricie.com
SUMMARY:Les vendredis en Folie
DESCRIPTION:Dès l’ouverture jusqu’à 16 h 30\n\n\n\nArrive avant 11 h 15 pour commander au resto et dîner avec nous\n\n\n\n\nLes vendredis après-midi sont consacrés aux divertissements pour tous nos membres adolescents et adultes (jeux de société\, jeux vidéo\, films populaires\, dessiner ou simplement discuter…). Mais\, prenez note qu’il ne s’agit pas d’un service de garde. Votre enfant doit être assez autonome. L’activité a lieu au local d’Autisme Mauricie.
URL:https://www.autismemauricie.com/event/les-vendredis-en-folie/2029-06-01/
CATEGORIES:Les vendredis en Folie
ATTACH;FMTTYPE=image/png:https://www.autismemauricie.com/wp-content/uploads/2023/09/Screenshot-2023-09-18-184222.png
END:VEVENT
BEGIN:VEVENT
DTSTART;TZID=Europe/Paris:20290608T083000
DTEND;TZID=Europe/Paris:20290608T163000
DTSTAMP:20260424T044708
CREATED:20251015T172703Z
LAST-MODIFIED:20251015T172712Z
UID:10005191-1875601800-1875630600@www.autismemauricie.com
SUMMARY:Les vendredis en Folie
DESCRIPTION:Dès l’ouverture jusqu’à 16 h 30\n\n\n\nArrive avant 11 h 15 pour commander au resto et dîner avec nous\n\n\n\n\nLes vendredis après-midi sont consacrés aux divertissements pour tous nos membres adolescents et adultes (jeux de société\, jeux vidéo\, films populaires\, dessiner ou simplement discuter…). Mais\, prenez note qu’il ne s’agit pas d’un service de garde. Votre enfant doit être assez autonome. L’activité a lieu au local d’Autisme Mauricie.
URL:https://www.autismemauricie.com/event/les-vendredis-en-folie/2029-06-08/
CATEGORIES:Les vendredis en Folie
ATTACH;FMTTYPE=image/png:https://www.autismemauricie.com/wp-content/uploads/2023/09/Screenshot-2023-09-18-184222.png
END:VEVENT
BEGIN:VEVENT
DTSTART;TZID=Europe/Paris:20290615T083000
DTEND;TZID=Europe/Paris:20290615T163000
DTSTAMP:20260424T044708
CREATED:20251015T172703Z
LAST-MODIFIED:20251015T172712Z
UID:10005192-1876206600-1876235400@www.autismemauricie.com
SUMMARY:Les vendredis en Folie
DESCRIPTION:Dès l’ouverture jusqu’à 16 h 30\n\n\n\nArrive avant 11 h 15 pour commander au resto et dîner avec nous\n\n\n\n\nLes vendredis après-midi sont consacrés aux divertissements pour tous nos membres adolescents et adultes (jeux de société\, jeux vidéo\, films populaires\, dessiner ou simplement discuter…). Mais\, prenez note qu’il ne s’agit pas d’un service de garde. Votre enfant doit être assez autonome. L’activité a lieu au local d’Autisme Mauricie.
URL:https://www.autismemauricie.com/event/les-vendredis-en-folie/2029-06-15/
CATEGORIES:Les vendredis en Folie
ATTACH;FMTTYPE=image/png:https://www.autismemauricie.com/wp-content/uploads/2023/09/Screenshot-2023-09-18-184222.png
END:VEVENT
BEGIN:VEVENT
DTSTART;TZID=Europe/Paris:20290622T083000
DTEND;TZID=Europe/Paris:20290622T163000
DTSTAMP:20260424T044708
CREATED:20251015T172703Z
LAST-MODIFIED:20251015T172712Z
UID:10005193-1876811400-1876840200@www.autismemauricie.com
SUMMARY:Les vendredis en Folie
DESCRIPTION:Dès l’ouverture jusqu’à 16 h 30\n\n\n\nArrive avant 11 h 15 pour commander au resto et dîner avec nous\n\n\n\n\nLes vendredis après-midi sont consacrés aux divertissements pour tous nos membres adolescents et adultes (jeux de société\, jeux vidéo\, films populaires\, dessiner ou simplement discuter…). Mais\, prenez note qu’il ne s’agit pas d’un service de garde. Votre enfant doit être assez autonome. L’activité a lieu au local d’Autisme Mauricie.
URL:https://www.autismemauricie.com/event/les-vendredis-en-folie/2029-06-22/
CATEGORIES:Les vendredis en Folie
ATTACH;FMTTYPE=image/png:https://www.autismemauricie.com/wp-content/uploads/2023/09/Screenshot-2023-09-18-184222.png
END:VEVENT
BEGIN:VEVENT
DTSTART;TZID=Europe/Paris:20290629T083000
DTEND;TZID=Europe/Paris:20290629T163000
DTSTAMP:20260424T044708
CREATED:20251015T172703Z
LAST-MODIFIED:20251015T172712Z
UID:10005194-1877416200-1877445000@www.autismemauricie.com
SUMMARY:Les vendredis en Folie
DESCRIPTION:Dès l’ouverture jusqu’à 16 h 30\n\n\n\nArrive avant 11 h 15 pour commander au resto et dîner avec nous\n\n\n\n\nLes vendredis après-midi sont consacrés aux divertissements pour tous nos membres adolescents et adultes (jeux de société\, jeux vidéo\, films populaires\, dessiner ou simplement discuter…). Mais\, prenez note qu’il ne s’agit pas d’un service de garde. Votre enfant doit être assez autonome. L’activité a lieu au local d’Autisme Mauricie.
URL:https://www.autismemauricie.com/event/les-vendredis-en-folie/2029-06-29/
CATEGORIES:Les vendredis en Folie
ATTACH;FMTTYPE=image/png:https://www.autismemauricie.com/wp-content/uploads/2023/09/Screenshot-2023-09-18-184222.png
END:VEVENT
BEGIN:VEVENT
DTSTART;TZID=Europe/Paris:20290706T083000
DTEND;TZID=Europe/Paris:20290706T163000
DTSTAMP:20260424T044708
CREATED:20251015T172703Z
LAST-MODIFIED:20251015T172712Z
UID:10005195-1878021000-1878049800@www.autismemauricie.com
SUMMARY:Les vendredis en Folie
DESCRIPTION:Dès l’ouverture jusqu’à 16 h 30\n\n\n\nArrive avant 11 h 15 pour commander au resto et dîner avec nous\n\n\n\n\nLes vendredis après-midi sont consacrés aux divertissements pour tous nos membres adolescents et adultes (jeux de société\, jeux vidéo\, films populaires\, dessiner ou simplement discuter…). Mais\, prenez note qu’il ne s’agit pas d’un service de garde. Votre enfant doit être assez autonome. L’activité a lieu au local d’Autisme Mauricie.
URL:https://www.autismemauricie.com/event/les-vendredis-en-folie/2029-07-06/
CATEGORIES:Les vendredis en Folie
ATTACH;FMTTYPE=image/png:https://www.autismemauricie.com/wp-content/uploads/2023/09/Screenshot-2023-09-18-184222.png
END:VEVENT
BEGIN:VEVENT
DTSTART;TZID=Europe/Paris:20290713T083000
DTEND;TZID=Europe/Paris:20290713T163000
DTSTAMP:20260424T044708
CREATED:20251015T172703Z
LAST-MODIFIED:20251015T172712Z
UID:10005196-1878625800-1878654600@www.autismemauricie.com
SUMMARY:Les vendredis en Folie
DESCRIPTION:Dès l’ouverture jusqu’à 16 h 30\n\n\n\nArrive avant 11 h 15 pour commander au resto et dîner avec nous\n\n\n\n\nLes vendredis après-midi sont consacrés aux divertissements pour tous nos membres adolescents et adultes (jeux de société\, jeux vidéo\, films populaires\, dessiner ou simplement discuter…). Mais\, prenez note qu’il ne s’agit pas d’un service de garde. Votre enfant doit être assez autonome. L’activité a lieu au local d’Autisme Mauricie.
URL:https://www.autismemauricie.com/event/les-vendredis-en-folie/2029-07-13/
CATEGORIES:Les vendredis en Folie
ATTACH;FMTTYPE=image/png:https://www.autismemauricie.com/wp-content/uploads/2023/09/Screenshot-2023-09-18-184222.png
END:VEVENT
BEGIN:VEVENT
DTSTART;TZID=Europe/Paris:20290720T083000
DTEND;TZID=Europe/Paris:20290720T163000
DTSTAMP:20260424T044708
CREATED:20251015T172703Z
LAST-MODIFIED:20251015T172712Z
UID:10005197-1879230600-1879259400@www.autismemauricie.com
SUMMARY:Les vendredis en Folie
DESCRIPTION:Dès l’ouverture jusqu’à 16 h 30\n\n\n\nArrive avant 11 h 15 pour commander au resto et dîner avec nous\n\n\n\n\nLes vendredis après-midi sont consacrés aux divertissements pour tous nos membres adolescents et adultes (jeux de société\, jeux vidéo\, films populaires\, dessiner ou simplement discuter…). Mais\, prenez note qu’il ne s’agit pas d’un service de garde. Votre enfant doit être assez autonome. L’activité a lieu au local d’Autisme Mauricie.
URL:https://www.autismemauricie.com/event/les-vendredis-en-folie/2029-07-20/
CATEGORIES:Les vendredis en Folie
ATTACH;FMTTYPE=image/png:https://www.autismemauricie.com/wp-content/uploads/2023/09/Screenshot-2023-09-18-184222.png
END:VEVENT
BEGIN:VEVENT
DTSTART;TZID=Europe/Paris:20290727T083000
DTEND;TZID=Europe/Paris:20290727T163000
DTSTAMP:20260424T044708
CREATED:20251015T172703Z
LAST-MODIFIED:20251015T172712Z
UID:10005198-1879835400-1879864200@www.autismemauricie.com
SUMMARY:Les vendredis en Folie
DESCRIPTION:Dès l’ouverture jusqu’à 16 h 30\n\n\n\nArrive avant 11 h 15 pour commander au resto et dîner avec nous\n\n\n\n\nLes vendredis après-midi sont consacrés aux divertissements pour tous nos membres adolescents et adultes (jeux de société\, jeux vidéo\, films populaires\, dessiner ou simplement discuter…). Mais\, prenez note qu’il ne s’agit pas d’un service de garde. Votre enfant doit être assez autonome. L’activité a lieu au local d’Autisme Mauricie.
URL:https://www.autismemauricie.com/event/les-vendredis-en-folie/2029-07-27/
CATEGORIES:Les vendredis en Folie
ATTACH;FMTTYPE=image/png:https://www.autismemauricie.com/wp-content/uploads/2023/09/Screenshot-2023-09-18-184222.png
END:VEVENT
BEGIN:VEVENT
DTSTART;TZID=Europe/Paris:20290803T083000
DTEND;TZID=Europe/Paris:20290803T163000
DTSTAMP:20260424T044708
CREATED:20251015T172703Z
LAST-MODIFIED:20251015T172712Z
UID:10005199-1880440200-1880469000@www.autismemauricie.com
SUMMARY:Les vendredis en Folie
DESCRIPTION:Dès l’ouverture jusqu’à 16 h 30\n\n\n\nArrive avant 11 h 15 pour commander au resto et dîner avec nous\n\n\n\n\nLes vendredis après-midi sont consacrés aux divertissements pour tous nos membres adolescents et adultes (jeux de société\, jeux vidéo\, films populaires\, dessiner ou simplement discuter…). Mais\, prenez note qu’il ne s’agit pas d’un service de garde. Votre enfant doit être assez autonome. L’activité a lieu au local d’Autisme Mauricie.
URL:https://www.autismemauricie.com/event/les-vendredis-en-folie/2029-08-03/
CATEGORIES:Les vendredis en Folie
ATTACH;FMTTYPE=image/png:https://www.autismemauricie.com/wp-content/uploads/2023/09/Screenshot-2023-09-18-184222.png
END:VEVENT
BEGIN:VEVENT
DTSTART;TZID=Europe/Paris:20290810T083000
DTEND;TZID=Europe/Paris:20290810T163000
DTSTAMP:20260424T044708
CREATED:20251015T172703Z
LAST-MODIFIED:20251015T172712Z
UID:10005200-1881045000-1881073800@www.autismemauricie.com
SUMMARY:Les vendredis en Folie
DESCRIPTION:Dès l’ouverture jusqu’à 16 h 30\n\n\n\nArrive avant 11 h 15 pour commander au resto et dîner avec nous\n\n\n\n\nLes vendredis après-midi sont consacrés aux divertissements pour tous nos membres adolescents et adultes (jeux de société\, jeux vidéo\, films populaires\, dessiner ou simplement discuter…). Mais\, prenez note qu’il ne s’agit pas d’un service de garde. Votre enfant doit être assez autonome. L’activité a lieu au local d’Autisme Mauricie.
URL:https://www.autismemauricie.com/event/les-vendredis-en-folie/2029-08-10/
CATEGORIES:Les vendredis en Folie
ATTACH;FMTTYPE=image/png:https://www.autismemauricie.com/wp-content/uploads/2023/09/Screenshot-2023-09-18-184222.png
END:VEVENT
BEGIN:VEVENT
DTSTART;TZID=Europe/Paris:20290817T083000
DTEND;TZID=Europe/Paris:20290817T163000
DTSTAMP:20260424T044708
CREATED:20251015T172703Z
LAST-MODIFIED:20251015T172712Z
UID:10005201-1881649800-1881678600@www.autismemauricie.com
SUMMARY:Les vendredis en Folie
DESCRIPTION:Dès l’ouverture jusqu’à 16 h 30\n\n\n\nArrive avant 11 h 15 pour commander au resto et dîner avec nous\n\n\n\n\nLes vendredis après-midi sont consacrés aux divertissements pour tous nos membres adolescents et adultes (jeux de société\, jeux vidéo\, films populaires\, dessiner ou simplement discuter…). Mais\, prenez note qu’il ne s’agit pas d’un service de garde. Votre enfant doit être assez autonome. L’activité a lieu au local d’Autisme Mauricie.
URL:https://www.autismemauricie.com/event/les-vendredis-en-folie/2029-08-17/
CATEGORIES:Les vendredis en Folie
ATTACH;FMTTYPE=image/png:https://www.autismemauricie.com/wp-content/uploads/2023/09/Screenshot-2023-09-18-184222.png
END:VEVENT
BEGIN:VEVENT
DTSTART;TZID=Europe/Paris:20290824T083000
DTEND;TZID=Europe/Paris:20290824T163000
DTSTAMP:20260424T044708
CREATED:20251015T172703Z
LAST-MODIFIED:20251015T172712Z
UID:10005202-1882254600-1882283400@www.autismemauricie.com
SUMMARY:Les vendredis en Folie
DESCRIPTION:Dès l’ouverture jusqu’à 16 h 30\n\n\n\nArrive avant 11 h 15 pour commander au resto et dîner avec nous\n\n\n\n\nLes vendredis après-midi sont consacrés aux divertissements pour tous nos membres adolescents et adultes (jeux de société\, jeux vidéo\, films populaires\, dessiner ou simplement discuter…). Mais\, prenez note qu’il ne s’agit pas d’un service de garde. Votre enfant doit être assez autonome. L’activité a lieu au local d’Autisme Mauricie.
URL:https://www.autismemauricie.com/event/les-vendredis-en-folie/2029-08-24/
CATEGORIES:Les vendredis en Folie
ATTACH;FMTTYPE=image/png:https://www.autismemauricie.com/wp-content/uploads/2023/09/Screenshot-2023-09-18-184222.png
END:VEVENT
BEGIN:VEVENT
DTSTART;TZID=Europe/Paris:20290831T083000
DTEND;TZID=Europe/Paris:20290831T163000
DTSTAMP:20260424T044708
CREATED:20251015T172703Z
LAST-MODIFIED:20251015T172712Z
UID:10005203-1882859400-1882888200@www.autismemauricie.com
SUMMARY:Les vendredis en Folie
DESCRIPTION:Dès l’ouverture jusqu’à 16 h 30\n\n\n\nArrive avant 11 h 15 pour commander au resto et dîner avec nous\n\n\n\n\nLes vendredis après-midi sont consacrés aux divertissements pour tous nos membres adolescents et adultes (jeux de société\, jeux vidéo\, films populaires\, dessiner ou simplement discuter…). Mais\, prenez note qu’il ne s’agit pas d’un service de garde. Votre enfant doit être assez autonome. L’activité a lieu au local d’Autisme Mauricie.
URL:https://www.autismemauricie.com/event/les-vendredis-en-folie/2029-08-31/
CATEGORIES:Les vendredis en Folie
ATTACH;FMTTYPE=image/png:https://www.autismemauricie.com/wp-content/uploads/2023/09/Screenshot-2023-09-18-184222.png
END:VEVENT
BEGIN:VEVENT
DTSTART;TZID=Europe/Paris:20290907T083000
DTEND;TZID=Europe/Paris:20290907T163000
DTSTAMP:20260424T044708
CREATED:20251015T172703Z
LAST-MODIFIED:20251015T172712Z
UID:10005204-1883464200-1883493000@www.autismemauricie.com
SUMMARY:Les vendredis en Folie
DESCRIPTION:Dès l’ouverture jusqu’à 16 h 30\n\n\n\nArrive avant 11 h 15 pour commander au resto et dîner avec nous\n\n\n\n\nLes vendredis après-midi sont consacrés aux divertissements pour tous nos membres adolescents et adultes (jeux de société\, jeux vidéo\, films populaires\, dessiner ou simplement discuter…). Mais\, prenez note qu’il ne s’agit pas d’un service de garde. Votre enfant doit être assez autonome. L’activité a lieu au local d’Autisme Mauricie.
URL:https://www.autismemauricie.com/event/les-vendredis-en-folie/2029-09-07/
CATEGORIES:Les vendredis en Folie
ATTACH;FMTTYPE=image/png:https://www.autismemauricie.com/wp-content/uploads/2023/09/Screenshot-2023-09-18-184222.png
END:VEVENT
BEGIN:VEVENT
DTSTART;TZID=Europe/Paris:20290914T083000
DTEND;TZID=Europe/Paris:20290914T163000
DTSTAMP:20260424T044708
CREATED:20251015T172703Z
LAST-MODIFIED:20251015T172712Z
UID:10005205-1884069000-1884097800@www.autismemauricie.com
SUMMARY:Les vendredis en Folie
DESCRIPTION:Dès l’ouverture jusqu’à 16 h 30\n\n\n\nArrive avant 11 h 15 pour commander au resto et dîner avec nous\n\n\n\n\nLes vendredis après-midi sont consacrés aux divertissements pour tous nos membres adolescents et adultes (jeux de société\, jeux vidéo\, films populaires\, dessiner ou simplement discuter…). Mais\, prenez note qu’il ne s’agit pas d’un service de garde. Votre enfant doit être assez autonome. L’activité a lieu au local d’Autisme Mauricie.
URL:https://www.autismemauricie.com/event/les-vendredis-en-folie/2029-09-14/
CATEGORIES:Les vendredis en Folie
ATTACH;FMTTYPE=image/png:https://www.autismemauricie.com/wp-content/uploads/2023/09/Screenshot-2023-09-18-184222.png
END:VEVENT
BEGIN:VEVENT
DTSTART;TZID=Europe/Paris:20290921T083000
DTEND;TZID=Europe/Paris:20290921T163000
DTSTAMP:20260424T044708
CREATED:20251015T172703Z
LAST-MODIFIED:20251015T172712Z
UID:10005206-1884673800-1884702600@www.autismemauricie.com
SUMMARY:Les vendredis en Folie
DESCRIPTION:Dès l’ouverture jusqu’à 16 h 30\n\n\n\nArrive avant 11 h 15 pour commander au resto et dîner avec nous\n\n\n\n\nLes vendredis après-midi sont consacrés aux divertissements pour tous nos membres adolescents et adultes (jeux de société\, jeux vidéo\, films populaires\, dessiner ou simplement discuter…). Mais\, prenez note qu’il ne s’agit pas d’un service de garde. Votre enfant doit être assez autonome. L’activité a lieu au local d’Autisme Mauricie.
URL:https://www.autismemauricie.com/event/les-vendredis-en-folie/2029-09-21/
CATEGORIES:Les vendredis en Folie
ATTACH;FMTTYPE=image/png:https://www.autismemauricie.com/wp-content/uploads/2023/09/Screenshot-2023-09-18-184222.png
END:VEVENT
BEGIN:VEVENT
DTSTART;TZID=Europe/Paris:20290928T083000
DTEND;TZID=Europe/Paris:20290928T163000
DTSTAMP:20260424T044708
CREATED:20251015T172703Z
LAST-MODIFIED:20251015T172712Z
UID:10005207-1885278600-1885307400@www.autismemauricie.com
SUMMARY:Les vendredis en Folie
DESCRIPTION:Dès l’ouverture jusqu’à 16 h 30\n\n\n\nArrive avant 11 h 15 pour commander au resto et dîner avec nous\n\n\n\n\nLes vendredis après-midi sont consacrés aux divertissements pour tous nos membres adolescents et adultes (jeux de société\, jeux vidéo\, films populaires\, dessiner ou simplement discuter…). Mais\, prenez note qu’il ne s’agit pas d’un service de garde. Votre enfant doit être assez autonome. L’activité a lieu au local d’Autisme Mauricie.
URL:https://www.autismemauricie.com/event/les-vendredis-en-folie/2029-09-28/
CATEGORIES:Les vendredis en Folie
ATTACH;FMTTYPE=image/png:https://www.autismemauricie.com/wp-content/uploads/2023/09/Screenshot-2023-09-18-184222.png
END:VEVENT
BEGIN:VEVENT
DTSTART;TZID=Europe/Paris:20291005T083000
DTEND;TZID=Europe/Paris:20291005T163000
DTSTAMP:20260424T044708
CREATED:20251015T172703Z
LAST-MODIFIED:20251015T172712Z
UID:10005208-1885883400-1885912200@www.autismemauricie.com
SUMMARY:Les vendredis en Folie
DESCRIPTION:Dès l’ouverture jusqu’à 16 h 30\n\n\n\nArrive avant 11 h 15 pour commander au resto et dîner avec nous\n\n\n\n\nLes vendredis après-midi sont consacrés aux divertissements pour tous nos membres adolescents et adultes (jeux de société\, jeux vidéo\, films populaires\, dessiner ou simplement discuter…). Mais\, prenez note qu’il ne s’agit pas d’un service de garde. Votre enfant doit être assez autonome. L’activité a lieu au local d’Autisme Mauricie.
URL:https://www.autismemauricie.com/event/les-vendredis-en-folie/2029-10-05/
CATEGORIES:Les vendredis en Folie
ATTACH;FMTTYPE=image/png:https://www.autismemauricie.com/wp-content/uploads/2023/09/Screenshot-2023-09-18-184222.png
END:VEVENT
BEGIN:VEVENT
DTSTART;TZID=Europe/Paris:20291012T083000
DTEND;TZID=Europe/Paris:20291012T163000
DTSTAMP:20260424T044708
CREATED:20251015T172703Z
LAST-MODIFIED:20251015T172712Z
UID:10005209-1886488200-1886517000@www.autismemauricie.com
SUMMARY:Les vendredis en Folie
DESCRIPTION:Dès l’ouverture jusqu’à 16 h 30\n\n\n\nArrive avant 11 h 15 pour commander au resto et dîner avec nous\n\n\n\n\nLes vendredis après-midi sont consacrés aux divertissements pour tous nos membres adolescents et adultes (jeux de société\, jeux vidéo\, films populaires\, dessiner ou simplement discuter…). Mais\, prenez note qu’il ne s’agit pas d’un service de garde. Votre enfant doit être assez autonome. L’activité a lieu au local d’Autisme Mauricie.
URL:https://www.autismemauricie.com/event/les-vendredis-en-folie/2029-10-12/
CATEGORIES:Les vendredis en Folie
ATTACH;FMTTYPE=image/png:https://www.autismemauricie.com/wp-content/uploads/2023/09/Screenshot-2023-09-18-184222.png
END:VEVENT
BEGIN:VEVENT
DTSTART;TZID=Europe/Paris:20291019T083000
DTEND;TZID=Europe/Paris:20291019T163000
DTSTAMP:20260424T044708
CREATED:20251015T172703Z
LAST-MODIFIED:20251015T172712Z
UID:10005210-1887093000-1887121800@www.autismemauricie.com
SUMMARY:Les vendredis en Folie
DESCRIPTION:Dès l’ouverture jusqu’à 16 h 30\n\n\n\nArrive avant 11 h 15 pour commander au resto et dîner avec nous\n\n\n\n\nLes vendredis après-midi sont consacrés aux divertissements pour tous nos membres adolescents et adultes (jeux de société\, jeux vidéo\, films populaires\, dessiner ou simplement discuter…). Mais\, prenez note qu’il ne s’agit pas d’un service de garde. Votre enfant doit être assez autonome. L’activité a lieu au local d’Autisme Mauricie.
URL:https://www.autismemauricie.com/event/les-vendredis-en-folie/2029-10-19/
CATEGORIES:Les vendredis en Folie
ATTACH;FMTTYPE=image/png:https://www.autismemauricie.com/wp-content/uploads/2023/09/Screenshot-2023-09-18-184222.png
END:VEVENT
BEGIN:VEVENT
DTSTART;TZID=Europe/Paris:20291026T083000
DTEND;TZID=Europe/Paris:20291026T163000
DTSTAMP:20260424T044708
CREATED:20251015T172703Z
LAST-MODIFIED:20251015T172712Z
UID:10005211-1887697800-1887726600@www.autismemauricie.com
SUMMARY:Les vendredis en Folie
DESCRIPTION:Dès l’ouverture jusqu’à 16 h 30\n\n\n\nArrive avant 11 h 15 pour commander au resto et dîner avec nous\n\n\n\n\nLes vendredis après-midi sont consacrés aux divertissements pour tous nos membres adolescents et adultes (jeux de société\, jeux vidéo\, films populaires\, dessiner ou simplement discuter…). Mais\, prenez note qu’il ne s’agit pas d’un service de garde. Votre enfant doit être assez autonome. L’activité a lieu au local d’Autisme Mauricie.
URL:https://www.autismemauricie.com/event/les-vendredis-en-folie/2029-10-26/
CATEGORIES:Les vendredis en Folie
ATTACH;FMTTYPE=image/png:https://www.autismemauricie.com/wp-content/uploads/2023/09/Screenshot-2023-09-18-184222.png
END:VEVENT
BEGIN:VEVENT
DTSTART;TZID=Europe/Paris:20291102T083000
DTEND;TZID=Europe/Paris:20291102T163000
DTSTAMP:20260424T044708
CREATED:20251015T172703Z
LAST-MODIFIED:20251015T172712Z
UID:10005212-1888302600-1888331400@www.autismemauricie.com
SUMMARY:Les vendredis en Folie
DESCRIPTION:Dès l’ouverture jusqu’à 16 h 30\n\n\n\nArrive avant 11 h 15 pour commander au resto et dîner avec nous\n\n\n\n\nLes vendredis après-midi sont consacrés aux divertissements pour tous nos membres adolescents et adultes (jeux de société\, jeux vidéo\, films populaires\, dessiner ou simplement discuter…). Mais\, prenez note qu’il ne s’agit pas d’un service de garde. Votre enfant doit être assez autonome. L’activité a lieu au local d’Autisme Mauricie.
URL:https://www.autismemauricie.com/event/les-vendredis-en-folie/2029-11-02/
CATEGORIES:Les vendredis en Folie
ATTACH;FMTTYPE=image/png:https://www.autismemauricie.com/wp-content/uploads/2023/09/Screenshot-2023-09-18-184222.png
END:VEVENT
BEGIN:VEVENT
DTSTART;TZID=Europe/Paris:20291109T083000
DTEND;TZID=Europe/Paris:20291109T163000
DTSTAMP:20260424T044708
CREATED:20251015T172703Z
LAST-MODIFIED:20251015T172712Z
UID:10005213-1888907400-1888936200@www.autismemauricie.com
SUMMARY:Les vendredis en Folie
DESCRIPTION:Dès l’ouverture jusqu’à 16 h 30\n\n\n\nArrive avant 11 h 15 pour commander au resto et dîner avec nous\n\n\n\n\nLes vendredis après-midi sont consacrés aux divertissements pour tous nos membres adolescents et adultes (jeux de société\, jeux vidéo\, films populaires\, dessiner ou simplement discuter…). Mais\, prenez note qu’il ne s’agit pas d’un service de garde. Votre enfant doit être assez autonome. L’activité a lieu au local d’Autisme Mauricie.
URL:https://www.autismemauricie.com/event/les-vendredis-en-folie/2029-11-09/
CATEGORIES:Les vendredis en Folie
ATTACH;FMTTYPE=image/png:https://www.autismemauricie.com/wp-content/uploads/2023/09/Screenshot-2023-09-18-184222.png
END:VEVENT
END:VCALENDAR