BEGIN:VCALENDAR
VERSION:2.0
PRODID:-//Autisme Mauricie - ECPv6.11.0//NONSGML v1.0//EN
CALSCALE:GREGORIAN
METHOD:PUBLISH
X-ORIGINAL-URL:https://www.autismemauricie.com
X-WR-CALDESC:Évènements pour Autisme Mauricie
REFRESH-INTERVAL;VALUE=DURATION:PT1H
X-Robots-Tag:noindex
X-PUBLISHED-TTL:PT1H
BEGIN:VTIMEZONE
TZID:Europe/Paris
BEGIN:DAYLIGHT
TZOFFSETFROM:+0100
TZOFFSETTO:+0200
TZNAME:CEST
DTSTART:20270328T010000
END:DAYLIGHT
BEGIN:STANDARD
TZOFFSETFROM:+0200
TZOFFSETTO:+0100
TZNAME:CET
DTSTART:20271031T010000
END:STANDARD
END:VTIMEZONE
BEGIN:VEVENT
DTSTART;TZID=Europe/Paris:20270101T083000
DTEND;TZID=Europe/Paris:20270101T163000
DTSTAMP:20260421T112414
CREATED:20251015T172703Z
LAST-MODIFIED:20251015T172712Z
UID:10005064-1798792200-1798821000@www.autismemauricie.com
SUMMARY:Les vendredis en Folie
DESCRIPTION:Dès l’ouverture jusqu’à 16 h 30\n\n\n\nArrive avant 11 h 15 pour commander au resto et dîner avec nous\n\n\n\n\nLes vendredis après-midi sont consacrés aux divertissements pour tous nos membres adolescents et adultes (jeux de société\, jeux vidéo\, films populaires\, dessiner ou simplement discuter…). Mais\, prenez note qu’il ne s’agit pas d’un service de garde. Votre enfant doit être assez autonome. L’activité a lieu au local d’Autisme Mauricie.
URL:https://www.autismemauricie.com/event/les-vendredis-en-folie/2027-01-01/
CATEGORIES:Les vendredis en Folie
ATTACH;FMTTYPE=image/png:https://www.autismemauricie.com/wp-content/uploads/2023/09/Screenshot-2023-09-18-184222.png
END:VEVENT
BEGIN:VEVENT
DTSTART;TZID=Europe/Paris:20270108T083000
DTEND;TZID=Europe/Paris:20270108T163000
DTSTAMP:20260421T112414
CREATED:20251015T172703Z
LAST-MODIFIED:20251015T172712Z
UID:10005065-1799397000-1799425800@www.autismemauricie.com
SUMMARY:Les vendredis en Folie
DESCRIPTION:Dès l’ouverture jusqu’à 16 h 30\n\n\n\nArrive avant 11 h 15 pour commander au resto et dîner avec nous\n\n\n\n\nLes vendredis après-midi sont consacrés aux divertissements pour tous nos membres adolescents et adultes (jeux de société\, jeux vidéo\, films populaires\, dessiner ou simplement discuter…). Mais\, prenez note qu’il ne s’agit pas d’un service de garde. Votre enfant doit être assez autonome. L’activité a lieu au local d’Autisme Mauricie.
URL:https://www.autismemauricie.com/event/les-vendredis-en-folie/2027-01-08/
CATEGORIES:Les vendredis en Folie
ATTACH;FMTTYPE=image/png:https://www.autismemauricie.com/wp-content/uploads/2023/09/Screenshot-2023-09-18-184222.png
END:VEVENT
BEGIN:VEVENT
DTSTART;TZID=Europe/Paris:20270115T083000
DTEND;TZID=Europe/Paris:20270115T163000
DTSTAMP:20260421T112414
CREATED:20251015T172703Z
LAST-MODIFIED:20251015T172712Z
UID:10005066-1800001800-1800030600@www.autismemauricie.com
SUMMARY:Les vendredis en Folie
DESCRIPTION:Dès l’ouverture jusqu’à 16 h 30\n\n\n\nArrive avant 11 h 15 pour commander au resto et dîner avec nous\n\n\n\n\nLes vendredis après-midi sont consacrés aux divertissements pour tous nos membres adolescents et adultes (jeux de société\, jeux vidéo\, films populaires\, dessiner ou simplement discuter…). Mais\, prenez note qu’il ne s’agit pas d’un service de garde. Votre enfant doit être assez autonome. L’activité a lieu au local d’Autisme Mauricie.
URL:https://www.autismemauricie.com/event/les-vendredis-en-folie/2027-01-15/
CATEGORIES:Les vendredis en Folie
ATTACH;FMTTYPE=image/png:https://www.autismemauricie.com/wp-content/uploads/2023/09/Screenshot-2023-09-18-184222.png
END:VEVENT
BEGIN:VEVENT
DTSTART;TZID=Europe/Paris:20270122T083000
DTEND;TZID=Europe/Paris:20270122T163000
DTSTAMP:20260421T112414
CREATED:20251015T172703Z
LAST-MODIFIED:20251015T172712Z
UID:10005067-1800606600-1800635400@www.autismemauricie.com
SUMMARY:Les vendredis en Folie
DESCRIPTION:Dès l’ouverture jusqu’à 16 h 30\n\n\n\nArrive avant 11 h 15 pour commander au resto et dîner avec nous\n\n\n\n\nLes vendredis après-midi sont consacrés aux divertissements pour tous nos membres adolescents et adultes (jeux de société\, jeux vidéo\, films populaires\, dessiner ou simplement discuter…). Mais\, prenez note qu’il ne s’agit pas d’un service de garde. Votre enfant doit être assez autonome. L’activité a lieu au local d’Autisme Mauricie.
URL:https://www.autismemauricie.com/event/les-vendredis-en-folie/2027-01-22/
CATEGORIES:Les vendredis en Folie
ATTACH;FMTTYPE=image/png:https://www.autismemauricie.com/wp-content/uploads/2023/09/Screenshot-2023-09-18-184222.png
END:VEVENT
BEGIN:VEVENT
DTSTART;TZID=Europe/Paris:20270129T083000
DTEND;TZID=Europe/Paris:20270129T163000
DTSTAMP:20260421T112414
CREATED:20251015T172703Z
LAST-MODIFIED:20251015T172712Z
UID:10005068-1801211400-1801240200@www.autismemauricie.com
SUMMARY:Les vendredis en Folie
DESCRIPTION:Dès l’ouverture jusqu’à 16 h 30\n\n\n\nArrive avant 11 h 15 pour commander au resto et dîner avec nous\n\n\n\n\nLes vendredis après-midi sont consacrés aux divertissements pour tous nos membres adolescents et adultes (jeux de société\, jeux vidéo\, films populaires\, dessiner ou simplement discuter…). Mais\, prenez note qu’il ne s’agit pas d’un service de garde. Votre enfant doit être assez autonome. L’activité a lieu au local d’Autisme Mauricie.
URL:https://www.autismemauricie.com/event/les-vendredis-en-folie/2027-01-29/
CATEGORIES:Les vendredis en Folie
ATTACH;FMTTYPE=image/png:https://www.autismemauricie.com/wp-content/uploads/2023/09/Screenshot-2023-09-18-184222.png
END:VEVENT
BEGIN:VEVENT
DTSTART;TZID=Europe/Paris:20270205T083000
DTEND;TZID=Europe/Paris:20270205T163000
DTSTAMP:20260421T112414
CREATED:20251015T172703Z
LAST-MODIFIED:20251015T172712Z
UID:10005069-1801816200-1801845000@www.autismemauricie.com
SUMMARY:Les vendredis en Folie
DESCRIPTION:Dès l’ouverture jusqu’à 16 h 30\n\n\n\nArrive avant 11 h 15 pour commander au resto et dîner avec nous\n\n\n\n\nLes vendredis après-midi sont consacrés aux divertissements pour tous nos membres adolescents et adultes (jeux de société\, jeux vidéo\, films populaires\, dessiner ou simplement discuter…). Mais\, prenez note qu’il ne s’agit pas d’un service de garde. Votre enfant doit être assez autonome. L’activité a lieu au local d’Autisme Mauricie.
URL:https://www.autismemauricie.com/event/les-vendredis-en-folie/2027-02-05/
CATEGORIES:Les vendredis en Folie
ATTACH;FMTTYPE=image/png:https://www.autismemauricie.com/wp-content/uploads/2023/09/Screenshot-2023-09-18-184222.png
END:VEVENT
BEGIN:VEVENT
DTSTART;TZID=Europe/Paris:20270212T083000
DTEND;TZID=Europe/Paris:20270212T163000
DTSTAMP:20260421T112414
CREATED:20251015T172703Z
LAST-MODIFIED:20251015T172712Z
UID:10005070-1802421000-1802449800@www.autismemauricie.com
SUMMARY:Les vendredis en Folie
DESCRIPTION:Dès l’ouverture jusqu’à 16 h 30\n\n\n\nArrive avant 11 h 15 pour commander au resto et dîner avec nous\n\n\n\n\nLes vendredis après-midi sont consacrés aux divertissements pour tous nos membres adolescents et adultes (jeux de société\, jeux vidéo\, films populaires\, dessiner ou simplement discuter…). Mais\, prenez note qu’il ne s’agit pas d’un service de garde. Votre enfant doit être assez autonome. L’activité a lieu au local d’Autisme Mauricie.
URL:https://www.autismemauricie.com/event/les-vendredis-en-folie/2027-02-12/
CATEGORIES:Les vendredis en Folie
ATTACH;FMTTYPE=image/png:https://www.autismemauricie.com/wp-content/uploads/2023/09/Screenshot-2023-09-18-184222.png
END:VEVENT
BEGIN:VEVENT
DTSTART;TZID=Europe/Paris:20270219T083000
DTEND;TZID=Europe/Paris:20270219T163000
DTSTAMP:20260421T112414
CREATED:20251015T172703Z
LAST-MODIFIED:20251015T172712Z
UID:10005071-1803025800-1803054600@www.autismemauricie.com
SUMMARY:Les vendredis en Folie
DESCRIPTION:Dès l’ouverture jusqu’à 16 h 30\n\n\n\nArrive avant 11 h 15 pour commander au resto et dîner avec nous\n\n\n\n\nLes vendredis après-midi sont consacrés aux divertissements pour tous nos membres adolescents et adultes (jeux de société\, jeux vidéo\, films populaires\, dessiner ou simplement discuter…). Mais\, prenez note qu’il ne s’agit pas d’un service de garde. Votre enfant doit être assez autonome. L’activité a lieu au local d’Autisme Mauricie.
URL:https://www.autismemauricie.com/event/les-vendredis-en-folie/2027-02-19/
CATEGORIES:Les vendredis en Folie
ATTACH;FMTTYPE=image/png:https://www.autismemauricie.com/wp-content/uploads/2023/09/Screenshot-2023-09-18-184222.png
END:VEVENT
BEGIN:VEVENT
DTSTART;TZID=Europe/Paris:20270226T083000
DTEND;TZID=Europe/Paris:20270226T163000
DTSTAMP:20260421T112414
CREATED:20251015T172703Z
LAST-MODIFIED:20251015T172712Z
UID:10005072-1803630600-1803659400@www.autismemauricie.com
SUMMARY:Les vendredis en Folie
DESCRIPTION:Dès l’ouverture jusqu’à 16 h 30\n\n\n\nArrive avant 11 h 15 pour commander au resto et dîner avec nous\n\n\n\n\nLes vendredis après-midi sont consacrés aux divertissements pour tous nos membres adolescents et adultes (jeux de société\, jeux vidéo\, films populaires\, dessiner ou simplement discuter…). Mais\, prenez note qu’il ne s’agit pas d’un service de garde. Votre enfant doit être assez autonome. L’activité a lieu au local d’Autisme Mauricie.
URL:https://www.autismemauricie.com/event/les-vendredis-en-folie/2027-02-26/
CATEGORIES:Les vendredis en Folie
ATTACH;FMTTYPE=image/png:https://www.autismemauricie.com/wp-content/uploads/2023/09/Screenshot-2023-09-18-184222.png
END:VEVENT
BEGIN:VEVENT
DTSTART;TZID=Europe/Paris:20270305T083000
DTEND;TZID=Europe/Paris:20270305T163000
DTSTAMP:20260421T112414
CREATED:20251015T172703Z
LAST-MODIFIED:20251015T172712Z
UID:10005073-1804235400-1804264200@www.autismemauricie.com
SUMMARY:Les vendredis en Folie
DESCRIPTION:Dès l’ouverture jusqu’à 16 h 30\n\n\n\nArrive avant 11 h 15 pour commander au resto et dîner avec nous\n\n\n\n\nLes vendredis après-midi sont consacrés aux divertissements pour tous nos membres adolescents et adultes (jeux de société\, jeux vidéo\, films populaires\, dessiner ou simplement discuter…). Mais\, prenez note qu’il ne s’agit pas d’un service de garde. Votre enfant doit être assez autonome. L’activité a lieu au local d’Autisme Mauricie.
URL:https://www.autismemauricie.com/event/les-vendredis-en-folie/2027-03-05/
CATEGORIES:Les vendredis en Folie
ATTACH;FMTTYPE=image/png:https://www.autismemauricie.com/wp-content/uploads/2023/09/Screenshot-2023-09-18-184222.png
END:VEVENT
BEGIN:VEVENT
DTSTART;TZID=Europe/Paris:20270312T083000
DTEND;TZID=Europe/Paris:20270312T163000
DTSTAMP:20260421T112414
CREATED:20251015T172703Z
LAST-MODIFIED:20251015T172712Z
UID:10005074-1804840200-1804869000@www.autismemauricie.com
SUMMARY:Les vendredis en Folie
DESCRIPTION:Dès l’ouverture jusqu’à 16 h 30\n\n\n\nArrive avant 11 h 15 pour commander au resto et dîner avec nous\n\n\n\n\nLes vendredis après-midi sont consacrés aux divertissements pour tous nos membres adolescents et adultes (jeux de société\, jeux vidéo\, films populaires\, dessiner ou simplement discuter…). Mais\, prenez note qu’il ne s’agit pas d’un service de garde. Votre enfant doit être assez autonome. L’activité a lieu au local d’Autisme Mauricie.
URL:https://www.autismemauricie.com/event/les-vendredis-en-folie/2027-03-12/
CATEGORIES:Les vendredis en Folie
ATTACH;FMTTYPE=image/png:https://www.autismemauricie.com/wp-content/uploads/2023/09/Screenshot-2023-09-18-184222.png
END:VEVENT
BEGIN:VEVENT
DTSTART;TZID=Europe/Paris:20270319T083000
DTEND;TZID=Europe/Paris:20270319T163000
DTSTAMP:20260421T112414
CREATED:20251015T172703Z
LAST-MODIFIED:20251015T172712Z
UID:10005075-1805445000-1805473800@www.autismemauricie.com
SUMMARY:Les vendredis en Folie
DESCRIPTION:Dès l’ouverture jusqu’à 16 h 30\n\n\n\nArrive avant 11 h 15 pour commander au resto et dîner avec nous\n\n\n\n\nLes vendredis après-midi sont consacrés aux divertissements pour tous nos membres adolescents et adultes (jeux de société\, jeux vidéo\, films populaires\, dessiner ou simplement discuter…). Mais\, prenez note qu’il ne s’agit pas d’un service de garde. Votre enfant doit être assez autonome. L’activité a lieu au local d’Autisme Mauricie.
URL:https://www.autismemauricie.com/event/les-vendredis-en-folie/2027-03-19/
CATEGORIES:Les vendredis en Folie
ATTACH;FMTTYPE=image/png:https://www.autismemauricie.com/wp-content/uploads/2023/09/Screenshot-2023-09-18-184222.png
END:VEVENT
BEGIN:VEVENT
DTSTART;TZID=Europe/Paris:20270326T083000
DTEND;TZID=Europe/Paris:20270326T163000
DTSTAMP:20260421T112414
CREATED:20251015T172703Z
LAST-MODIFIED:20251015T172712Z
UID:10005076-1806049800-1806078600@www.autismemauricie.com
SUMMARY:Les vendredis en Folie
DESCRIPTION:Dès l’ouverture jusqu’à 16 h 30\n\n\n\nArrive avant 11 h 15 pour commander au resto et dîner avec nous\n\n\n\n\nLes vendredis après-midi sont consacrés aux divertissements pour tous nos membres adolescents et adultes (jeux de société\, jeux vidéo\, films populaires\, dessiner ou simplement discuter…). Mais\, prenez note qu’il ne s’agit pas d’un service de garde. Votre enfant doit être assez autonome. L’activité a lieu au local d’Autisme Mauricie.
URL:https://www.autismemauricie.com/event/les-vendredis-en-folie/2027-03-26/
CATEGORIES:Les vendredis en Folie
ATTACH;FMTTYPE=image/png:https://www.autismemauricie.com/wp-content/uploads/2023/09/Screenshot-2023-09-18-184222.png
END:VEVENT
BEGIN:VEVENT
DTSTART;TZID=Europe/Paris:20270402T083000
DTEND;TZID=Europe/Paris:20270402T163000
DTSTAMP:20260421T112414
CREATED:20251015T172703Z
LAST-MODIFIED:20251015T172712Z
UID:10005077-1806654600-1806683400@www.autismemauricie.com
SUMMARY:Les vendredis en Folie
DESCRIPTION:Dès l’ouverture jusqu’à 16 h 30\n\n\n\nArrive avant 11 h 15 pour commander au resto et dîner avec nous\n\n\n\n\nLes vendredis après-midi sont consacrés aux divertissements pour tous nos membres adolescents et adultes (jeux de société\, jeux vidéo\, films populaires\, dessiner ou simplement discuter…). Mais\, prenez note qu’il ne s’agit pas d’un service de garde. Votre enfant doit être assez autonome. L’activité a lieu au local d’Autisme Mauricie.
URL:https://www.autismemauricie.com/event/les-vendredis-en-folie/2027-04-02/
CATEGORIES:Les vendredis en Folie
ATTACH;FMTTYPE=image/png:https://www.autismemauricie.com/wp-content/uploads/2023/09/Screenshot-2023-09-18-184222.png
END:VEVENT
BEGIN:VEVENT
DTSTART;TZID=Europe/Paris:20270409T083000
DTEND;TZID=Europe/Paris:20270409T163000
DTSTAMP:20260421T112414
CREATED:20251015T172703Z
LAST-MODIFIED:20251015T172712Z
UID:10005078-1807259400-1807288200@www.autismemauricie.com
SUMMARY:Les vendredis en Folie
DESCRIPTION:Dès l’ouverture jusqu’à 16 h 30\n\n\n\nArrive avant 11 h 15 pour commander au resto et dîner avec nous\n\n\n\n\nLes vendredis après-midi sont consacrés aux divertissements pour tous nos membres adolescents et adultes (jeux de société\, jeux vidéo\, films populaires\, dessiner ou simplement discuter…). Mais\, prenez note qu’il ne s’agit pas d’un service de garde. Votre enfant doit être assez autonome. L’activité a lieu au local d’Autisme Mauricie.
URL:https://www.autismemauricie.com/event/les-vendredis-en-folie/2027-04-09/
CATEGORIES:Les vendredis en Folie
ATTACH;FMTTYPE=image/png:https://www.autismemauricie.com/wp-content/uploads/2023/09/Screenshot-2023-09-18-184222.png
END:VEVENT
BEGIN:VEVENT
DTSTART;TZID=Europe/Paris:20270416T083000
DTEND;TZID=Europe/Paris:20270416T163000
DTSTAMP:20260421T112414
CREATED:20251015T172703Z
LAST-MODIFIED:20251015T172712Z
UID:10005079-1807864200-1807893000@www.autismemauricie.com
SUMMARY:Les vendredis en Folie
DESCRIPTION:Dès l’ouverture jusqu’à 16 h 30\n\n\n\nArrive avant 11 h 15 pour commander au resto et dîner avec nous\n\n\n\n\nLes vendredis après-midi sont consacrés aux divertissements pour tous nos membres adolescents et adultes (jeux de société\, jeux vidéo\, films populaires\, dessiner ou simplement discuter…). Mais\, prenez note qu’il ne s’agit pas d’un service de garde. Votre enfant doit être assez autonome. L’activité a lieu au local d’Autisme Mauricie.
URL:https://www.autismemauricie.com/event/les-vendredis-en-folie/2027-04-16/
CATEGORIES:Les vendredis en Folie
ATTACH;FMTTYPE=image/png:https://www.autismemauricie.com/wp-content/uploads/2023/09/Screenshot-2023-09-18-184222.png
END:VEVENT
BEGIN:VEVENT
DTSTART;TZID=Europe/Paris:20270423T083000
DTEND;TZID=Europe/Paris:20270423T163000
DTSTAMP:20260421T112414
CREATED:20251015T172703Z
LAST-MODIFIED:20251015T172712Z
UID:10005080-1808469000-1808497800@www.autismemauricie.com
SUMMARY:Les vendredis en Folie
DESCRIPTION:Dès l’ouverture jusqu’à 16 h 30\n\n\n\nArrive avant 11 h 15 pour commander au resto et dîner avec nous\n\n\n\n\nLes vendredis après-midi sont consacrés aux divertissements pour tous nos membres adolescents et adultes (jeux de société\, jeux vidéo\, films populaires\, dessiner ou simplement discuter…). Mais\, prenez note qu’il ne s’agit pas d’un service de garde. Votre enfant doit être assez autonome. L’activité a lieu au local d’Autisme Mauricie.
URL:https://www.autismemauricie.com/event/les-vendredis-en-folie/2027-04-23/
CATEGORIES:Les vendredis en Folie
ATTACH;FMTTYPE=image/png:https://www.autismemauricie.com/wp-content/uploads/2023/09/Screenshot-2023-09-18-184222.png
END:VEVENT
BEGIN:VEVENT
DTSTART;TZID=Europe/Paris:20270430T083000
DTEND;TZID=Europe/Paris:20270430T163000
DTSTAMP:20260421T112414
CREATED:20251015T172703Z
LAST-MODIFIED:20251015T172712Z
UID:10005081-1809073800-1809102600@www.autismemauricie.com
SUMMARY:Les vendredis en Folie
DESCRIPTION:Dès l’ouverture jusqu’à 16 h 30\n\n\n\nArrive avant 11 h 15 pour commander au resto et dîner avec nous\n\n\n\n\nLes vendredis après-midi sont consacrés aux divertissements pour tous nos membres adolescents et adultes (jeux de société\, jeux vidéo\, films populaires\, dessiner ou simplement discuter…). Mais\, prenez note qu’il ne s’agit pas d’un service de garde. Votre enfant doit être assez autonome. L’activité a lieu au local d’Autisme Mauricie.
URL:https://www.autismemauricie.com/event/les-vendredis-en-folie/2027-04-30/
CATEGORIES:Les vendredis en Folie
ATTACH;FMTTYPE=image/png:https://www.autismemauricie.com/wp-content/uploads/2023/09/Screenshot-2023-09-18-184222.png
END:VEVENT
BEGIN:VEVENT
DTSTART;TZID=Europe/Paris:20270507T083000
DTEND;TZID=Europe/Paris:20270507T163000
DTSTAMP:20260421T112414
CREATED:20251015T172703Z
LAST-MODIFIED:20251015T172712Z
UID:10005082-1809678600-1809707400@www.autismemauricie.com
SUMMARY:Les vendredis en Folie
DESCRIPTION:Dès l’ouverture jusqu’à 16 h 30\n\n\n\nArrive avant 11 h 15 pour commander au resto et dîner avec nous\n\n\n\n\nLes vendredis après-midi sont consacrés aux divertissements pour tous nos membres adolescents et adultes (jeux de société\, jeux vidéo\, films populaires\, dessiner ou simplement discuter…). Mais\, prenez note qu’il ne s’agit pas d’un service de garde. Votre enfant doit être assez autonome. L’activité a lieu au local d’Autisme Mauricie.
URL:https://www.autismemauricie.com/event/les-vendredis-en-folie/2027-05-07/
CATEGORIES:Les vendredis en Folie
ATTACH;FMTTYPE=image/png:https://www.autismemauricie.com/wp-content/uploads/2023/09/Screenshot-2023-09-18-184222.png
END:VEVENT
BEGIN:VEVENT
DTSTART;TZID=Europe/Paris:20270514T083000
DTEND;TZID=Europe/Paris:20270514T163000
DTSTAMP:20260421T112414
CREATED:20251015T172703Z
LAST-MODIFIED:20251015T172712Z
UID:10005083-1810283400-1810312200@www.autismemauricie.com
SUMMARY:Les vendredis en Folie
DESCRIPTION:Dès l’ouverture jusqu’à 16 h 30\n\n\n\nArrive avant 11 h 15 pour commander au resto et dîner avec nous\n\n\n\n\nLes vendredis après-midi sont consacrés aux divertissements pour tous nos membres adolescents et adultes (jeux de société\, jeux vidéo\, films populaires\, dessiner ou simplement discuter…). Mais\, prenez note qu’il ne s’agit pas d’un service de garde. Votre enfant doit être assez autonome. L’activité a lieu au local d’Autisme Mauricie.
URL:https://www.autismemauricie.com/event/les-vendredis-en-folie/2027-05-14/
CATEGORIES:Les vendredis en Folie
ATTACH;FMTTYPE=image/png:https://www.autismemauricie.com/wp-content/uploads/2023/09/Screenshot-2023-09-18-184222.png
END:VEVENT
BEGIN:VEVENT
DTSTART;TZID=Europe/Paris:20270521T083000
DTEND;TZID=Europe/Paris:20270521T163000
DTSTAMP:20260421T112414
CREATED:20251015T172703Z
LAST-MODIFIED:20251015T172712Z
UID:10005084-1810888200-1810917000@www.autismemauricie.com
SUMMARY:Les vendredis en Folie
DESCRIPTION:Dès l’ouverture jusqu’à 16 h 30\n\n\n\nArrive avant 11 h 15 pour commander au resto et dîner avec nous\n\n\n\n\nLes vendredis après-midi sont consacrés aux divertissements pour tous nos membres adolescents et adultes (jeux de société\, jeux vidéo\, films populaires\, dessiner ou simplement discuter…). Mais\, prenez note qu’il ne s’agit pas d’un service de garde. Votre enfant doit être assez autonome. L’activité a lieu au local d’Autisme Mauricie.
URL:https://www.autismemauricie.com/event/les-vendredis-en-folie/2027-05-21/
CATEGORIES:Les vendredis en Folie
ATTACH;FMTTYPE=image/png:https://www.autismemauricie.com/wp-content/uploads/2023/09/Screenshot-2023-09-18-184222.png
END:VEVENT
BEGIN:VEVENT
DTSTART;TZID=Europe/Paris:20270528T083000
DTEND;TZID=Europe/Paris:20270528T163000
DTSTAMP:20260421T112414
CREATED:20251015T172703Z
LAST-MODIFIED:20251015T172712Z
UID:10005085-1811493000-1811521800@www.autismemauricie.com
SUMMARY:Les vendredis en Folie
DESCRIPTION:Dès l’ouverture jusqu’à 16 h 30\n\n\n\nArrive avant 11 h 15 pour commander au resto et dîner avec nous\n\n\n\n\nLes vendredis après-midi sont consacrés aux divertissements pour tous nos membres adolescents et adultes (jeux de société\, jeux vidéo\, films populaires\, dessiner ou simplement discuter…). Mais\, prenez note qu’il ne s’agit pas d’un service de garde. Votre enfant doit être assez autonome. L’activité a lieu au local d’Autisme Mauricie.
URL:https://www.autismemauricie.com/event/les-vendredis-en-folie/2027-05-28/
CATEGORIES:Les vendredis en Folie
ATTACH;FMTTYPE=image/png:https://www.autismemauricie.com/wp-content/uploads/2023/09/Screenshot-2023-09-18-184222.png
END:VEVENT
BEGIN:VEVENT
DTSTART;TZID=Europe/Paris:20270604T083000
DTEND;TZID=Europe/Paris:20270604T163000
DTSTAMP:20260421T112414
CREATED:20251015T172703Z
LAST-MODIFIED:20251015T172712Z
UID:10005086-1812097800-1812126600@www.autismemauricie.com
SUMMARY:Les vendredis en Folie
DESCRIPTION:Dès l’ouverture jusqu’à 16 h 30\n\n\n\nArrive avant 11 h 15 pour commander au resto et dîner avec nous\n\n\n\n\nLes vendredis après-midi sont consacrés aux divertissements pour tous nos membres adolescents et adultes (jeux de société\, jeux vidéo\, films populaires\, dessiner ou simplement discuter…). Mais\, prenez note qu’il ne s’agit pas d’un service de garde. Votre enfant doit être assez autonome. L’activité a lieu au local d’Autisme Mauricie.
URL:https://www.autismemauricie.com/event/les-vendredis-en-folie/2027-06-04/
CATEGORIES:Les vendredis en Folie
ATTACH;FMTTYPE=image/png:https://www.autismemauricie.com/wp-content/uploads/2023/09/Screenshot-2023-09-18-184222.png
END:VEVENT
BEGIN:VEVENT
DTSTART;TZID=Europe/Paris:20270611T083000
DTEND;TZID=Europe/Paris:20270611T163000
DTSTAMP:20260421T112414
CREATED:20251015T172703Z
LAST-MODIFIED:20251015T172712Z
UID:10005087-1812702600-1812731400@www.autismemauricie.com
SUMMARY:Les vendredis en Folie
DESCRIPTION:Dès l’ouverture jusqu’à 16 h 30\n\n\n\nArrive avant 11 h 15 pour commander au resto et dîner avec nous\n\n\n\n\nLes vendredis après-midi sont consacrés aux divertissements pour tous nos membres adolescents et adultes (jeux de société\, jeux vidéo\, films populaires\, dessiner ou simplement discuter…). Mais\, prenez note qu’il ne s’agit pas d’un service de garde. Votre enfant doit être assez autonome. L’activité a lieu au local d’Autisme Mauricie.
URL:https://www.autismemauricie.com/event/les-vendredis-en-folie/2027-06-11/
CATEGORIES:Les vendredis en Folie
ATTACH;FMTTYPE=image/png:https://www.autismemauricie.com/wp-content/uploads/2023/09/Screenshot-2023-09-18-184222.png
END:VEVENT
BEGIN:VEVENT
DTSTART;TZID=Europe/Paris:20270618T083000
DTEND;TZID=Europe/Paris:20270618T163000
DTSTAMP:20260421T112414
CREATED:20251015T172703Z
LAST-MODIFIED:20251015T172712Z
UID:10005088-1813307400-1813336200@www.autismemauricie.com
SUMMARY:Les vendredis en Folie
DESCRIPTION:Dès l’ouverture jusqu’à 16 h 30\n\n\n\nArrive avant 11 h 15 pour commander au resto et dîner avec nous\n\n\n\n\nLes vendredis après-midi sont consacrés aux divertissements pour tous nos membres adolescents et adultes (jeux de société\, jeux vidéo\, films populaires\, dessiner ou simplement discuter…). Mais\, prenez note qu’il ne s’agit pas d’un service de garde. Votre enfant doit être assez autonome. L’activité a lieu au local d’Autisme Mauricie.
URL:https://www.autismemauricie.com/event/les-vendredis-en-folie/2027-06-18/
CATEGORIES:Les vendredis en Folie
ATTACH;FMTTYPE=image/png:https://www.autismemauricie.com/wp-content/uploads/2023/09/Screenshot-2023-09-18-184222.png
END:VEVENT
BEGIN:VEVENT
DTSTART;TZID=Europe/Paris:20270625T083000
DTEND;TZID=Europe/Paris:20270625T163000
DTSTAMP:20260421T112414
CREATED:20251015T172703Z
LAST-MODIFIED:20251015T172712Z
UID:10005089-1813912200-1813941000@www.autismemauricie.com
SUMMARY:Les vendredis en Folie
DESCRIPTION:Dès l’ouverture jusqu’à 16 h 30\n\n\n\nArrive avant 11 h 15 pour commander au resto et dîner avec nous\n\n\n\n\nLes vendredis après-midi sont consacrés aux divertissements pour tous nos membres adolescents et adultes (jeux de société\, jeux vidéo\, films populaires\, dessiner ou simplement discuter…). Mais\, prenez note qu’il ne s’agit pas d’un service de garde. Votre enfant doit être assez autonome. L’activité a lieu au local d’Autisme Mauricie.
URL:https://www.autismemauricie.com/event/les-vendredis-en-folie/2027-06-25/
CATEGORIES:Les vendredis en Folie
ATTACH;FMTTYPE=image/png:https://www.autismemauricie.com/wp-content/uploads/2023/09/Screenshot-2023-09-18-184222.png
END:VEVENT
BEGIN:VEVENT
DTSTART;TZID=Europe/Paris:20270702T083000
DTEND;TZID=Europe/Paris:20270702T163000
DTSTAMP:20260421T112414
CREATED:20251015T172703Z
LAST-MODIFIED:20251015T172712Z
UID:10005090-1814517000-1814545800@www.autismemauricie.com
SUMMARY:Les vendredis en Folie
DESCRIPTION:Dès l’ouverture jusqu’à 16 h 30\n\n\n\nArrive avant 11 h 15 pour commander au resto et dîner avec nous\n\n\n\n\nLes vendredis après-midi sont consacrés aux divertissements pour tous nos membres adolescents et adultes (jeux de société\, jeux vidéo\, films populaires\, dessiner ou simplement discuter…). Mais\, prenez note qu’il ne s’agit pas d’un service de garde. Votre enfant doit être assez autonome. L’activité a lieu au local d’Autisme Mauricie.
URL:https://www.autismemauricie.com/event/les-vendredis-en-folie/2027-07-02/
CATEGORIES:Les vendredis en Folie
ATTACH;FMTTYPE=image/png:https://www.autismemauricie.com/wp-content/uploads/2023/09/Screenshot-2023-09-18-184222.png
END:VEVENT
BEGIN:VEVENT
DTSTART;TZID=Europe/Paris:20270709T083000
DTEND;TZID=Europe/Paris:20270709T163000
DTSTAMP:20260421T112414
CREATED:20251015T172703Z
LAST-MODIFIED:20251015T172712Z
UID:10005091-1815121800-1815150600@www.autismemauricie.com
SUMMARY:Les vendredis en Folie
DESCRIPTION:Dès l’ouverture jusqu’à 16 h 30\n\n\n\nArrive avant 11 h 15 pour commander au resto et dîner avec nous\n\n\n\n\nLes vendredis après-midi sont consacrés aux divertissements pour tous nos membres adolescents et adultes (jeux de société\, jeux vidéo\, films populaires\, dessiner ou simplement discuter…). Mais\, prenez note qu’il ne s’agit pas d’un service de garde. Votre enfant doit être assez autonome. L’activité a lieu au local d’Autisme Mauricie.
URL:https://www.autismemauricie.com/event/les-vendredis-en-folie/2027-07-09/
CATEGORIES:Les vendredis en Folie
ATTACH;FMTTYPE=image/png:https://www.autismemauricie.com/wp-content/uploads/2023/09/Screenshot-2023-09-18-184222.png
END:VEVENT
BEGIN:VEVENT
DTSTART;TZID=Europe/Paris:20270716T083000
DTEND;TZID=Europe/Paris:20270716T163000
DTSTAMP:20260421T112414
CREATED:20251015T172703Z
LAST-MODIFIED:20251015T172712Z
UID:10005092-1815726600-1815755400@www.autismemauricie.com
SUMMARY:Les vendredis en Folie
DESCRIPTION:Dès l’ouverture jusqu’à 16 h 30\n\n\n\nArrive avant 11 h 15 pour commander au resto et dîner avec nous\n\n\n\n\nLes vendredis après-midi sont consacrés aux divertissements pour tous nos membres adolescents et adultes (jeux de société\, jeux vidéo\, films populaires\, dessiner ou simplement discuter…). Mais\, prenez note qu’il ne s’agit pas d’un service de garde. Votre enfant doit être assez autonome. L’activité a lieu au local d’Autisme Mauricie.
URL:https://www.autismemauricie.com/event/les-vendredis-en-folie/2027-07-16/
CATEGORIES:Les vendredis en Folie
ATTACH;FMTTYPE=image/png:https://www.autismemauricie.com/wp-content/uploads/2023/09/Screenshot-2023-09-18-184222.png
END:VEVENT
BEGIN:VEVENT
DTSTART;TZID=Europe/Paris:20270723T083000
DTEND;TZID=Europe/Paris:20270723T163000
DTSTAMP:20260421T112414
CREATED:20251015T172703Z
LAST-MODIFIED:20251015T172712Z
UID:10005093-1816331400-1816360200@www.autismemauricie.com
SUMMARY:Les vendredis en Folie
DESCRIPTION:Dès l’ouverture jusqu’à 16 h 30\n\n\n\nArrive avant 11 h 15 pour commander au resto et dîner avec nous\n\n\n\n\nLes vendredis après-midi sont consacrés aux divertissements pour tous nos membres adolescents et adultes (jeux de société\, jeux vidéo\, films populaires\, dessiner ou simplement discuter…). Mais\, prenez note qu’il ne s’agit pas d’un service de garde. Votre enfant doit être assez autonome. L’activité a lieu au local d’Autisme Mauricie.
URL:https://www.autismemauricie.com/event/les-vendredis-en-folie/2027-07-23/
CATEGORIES:Les vendredis en Folie
ATTACH;FMTTYPE=image/png:https://www.autismemauricie.com/wp-content/uploads/2023/09/Screenshot-2023-09-18-184222.png
END:VEVENT
END:VCALENDAR